BEGIN:VCALENDAR
VERSION:2.0
PRODID:-//femvents.at - ECPv6.15.18//NONSGML v1.0//EN
CALSCALE:GREGORIAN
METHOD:PUBLISH
X-WR-CALNAME:femvents.at
X-ORIGINAL-URL:https://www.femvents.at
X-WR-CALDESC:Veranstaltungen für femvents.at
REFRESH-INTERVAL;VALUE=DURATION:PT1H
X-Robots-Tag:noindex
X-PUBLISHED-TTL:PT1H
BEGIN:VTIMEZONE
TZID:Europe/Vienna
BEGIN:DAYLIGHT
TZOFFSETFROM:+0100
TZOFFSETTO:+0200
TZNAME:CEST
DTSTART:20250330T010000
END:DAYLIGHT
BEGIN:STANDARD
TZOFFSETFROM:+0200
TZOFFSETTO:+0100
TZNAME:CET
DTSTART:20251026T010000
END:STANDARD
BEGIN:DAYLIGHT
TZOFFSETFROM:+0100
TZOFFSETTO:+0200
TZNAME:CEST
DTSTART:20260329T010000
END:DAYLIGHT
BEGIN:STANDARD
TZOFFSETFROM:+0200
TZOFFSETTO:+0100
TZNAME:CET
DTSTART:20261025T010000
END:STANDARD
BEGIN:DAYLIGHT
TZOFFSETFROM:+0100
TZOFFSETTO:+0200
TZNAME:CEST
DTSTART:20270328T010000
END:DAYLIGHT
BEGIN:STANDARD
TZOFFSETFROM:+0200
TZOFFSETTO:+0100
TZNAME:CET
DTSTART:20271031T010000
END:STANDARD
END:VTIMEZONE
BEGIN:VEVENT
DTSTART;TZID=Europe/Vienna:20260511T183000
DTEND;TZID=Europe/Vienna:20260511T193000
DTSTAMP:20260422T172440
CREATED:20260421T114707Z
LAST-MODIFIED:20260421T114707Z
UID:10001146-1778524200-1778527800@www.femvents.at
SUMMARY:Vorsorge: ein Frauenthema
DESCRIPTION:Die Wienerinnen Brigittenau laden ein:\nVorsorge: ein Frauenthema \nAm 11. Mai finden wir uns zu einem wichtigem Thema mit drei spannenden Menschen zusammen. Unsere finanzielle Vorsorge ist in jedem Alter wichtig – seien Sie Teil des Dialogs!\nWann und Wo: 11. Mai 2026\, 18:30 Uhr\nLichtenfelsgasse 7\, 1010 Wien\nAnmeldungen unter wienerinnen.brigittenau@gmail.com
URL:https://www.femvents.at/event/vorsorge-ein-frauenthema/
LOCATION:Lichtenfeldgasse 7\, Lichtenfeldgasse 7\, Brigittenau\, Austria
CATEGORIES:Fortbildung,Wien
ATTACH;FMTTYPE=image/jpeg:https://www.femvents.at/wp-content/uploads/2026/04/b8af9d8b-3d40-429f-8307-f877b2386815-1.jpeg
GEO:48.2100025;16.3564072
X-APPLE-STRUCTURED-LOCATION;VALUE=URI;X-ADDRESS=Lichtenfeldgasse 7 Lichtenfeldgasse 7 Brigittenau Austria;X-APPLE-RADIUS=500;X-TITLE=Lichtenfeldgasse 7:geo:16.3564072,48.2100025
END:VEVENT
END:VCALENDAR