BEGIN:VCALENDAR
VERSION:2.0
PRODID:-//femvents.at - ECPv6.15.18//NONSGML v1.0//EN
CALSCALE:GREGORIAN
METHOD:PUBLISH
X-ORIGINAL-URL:https://www.femvents.at
X-WR-CALDESC:Veranstaltungen für femvents.at
REFRESH-INTERVAL;VALUE=DURATION:PT1H
X-Robots-Tag:noindex
X-PUBLISHED-TTL:PT1H
BEGIN:VTIMEZONE
TZID:Europe/Vienna
BEGIN:DAYLIGHT
TZOFFSETFROM:+0100
TZOFFSETTO:+0200
TZNAME:CEST
DTSTART:20250330T010000
END:DAYLIGHT
BEGIN:STANDARD
TZOFFSETFROM:+0200
TZOFFSETTO:+0100
TZNAME:CET
DTSTART:20251026T010000
END:STANDARD
BEGIN:DAYLIGHT
TZOFFSETFROM:+0100
TZOFFSETTO:+0200
TZNAME:CEST
DTSTART:20260329T010000
END:DAYLIGHT
BEGIN:STANDARD
TZOFFSETFROM:+0200
TZOFFSETTO:+0100
TZNAME:CET
DTSTART:20261025T010000
END:STANDARD
BEGIN:DAYLIGHT
TZOFFSETFROM:+0100
TZOFFSETTO:+0200
TZNAME:CEST
DTSTART:20270328T010000
END:DAYLIGHT
BEGIN:STANDARD
TZOFFSETFROM:+0200
TZOFFSETTO:+0100
TZNAME:CET
DTSTART:20271031T010000
END:STANDARD
END:VTIMEZONE
BEGIN:VEVENT
DTSTART;TZID=Europe/Vienna:20260429T163000
DTEND;TZID=Europe/Vienna:20260429T180000
DTSTAMP:20260422T191308
CREATED:20260317T091239Z
LAST-MODIFIED:20260317T091239Z
UID:10000931-1777480200-1777485600@www.femvents.at
SUMMARY:Stark bleiben im Wandel – Resilienz im Alltag stärken
DESCRIPTION:Treffpunkt Frauenwissen\n\n\nResilienz bedeutet\, innere Stabilität auch dann zu bewahren\, wenn das Leben herausfordernd wird. Dieser Impuls zeigt\, wie Sie seelische Widerstandskraft stärken\, Stress achtsam regulieren und Ihre Balance wiederfinden können. Mit einfachen\, alltagstauglichen Übungen und kurzen Reflexionsmomenten entsteht ein Gefühl von Klarheit\, Selbstwirksamkeit und innerer Ruhe\, das nachhaltig trägt. \n\n\nmit Mag.a Dr.in Bettina TELFSER
URL:https://www.femvents.at/event/stark-bleiben-im-wandel-resilienz-im-alltag-staerken/
LOCATION:Linz
CATEGORIES:Oberösterreich,Workshop
ATTACH;FMTTYPE=image/png:https://www.femvents.at/wp-content/uploads/2025/06/femvents_eventbild.png
END:VEVENT
BEGIN:VEVENT
DTSTART;TZID=Europe/Vienna:20260520T163000
DTEND;TZID=Europe/Vienna:20260520T180000
DTSTAMP:20260422T191308
CREATED:20260317T091341Z
LAST-MODIFIED:20260317T091341Z
UID:10000932-1779294600-1779300000@www.femvents.at
SUMMARY:KI vs. KI – Körperintelligenz trifft Künstliche Intelligenz
DESCRIPTION:Treffpunkt Frauenwissen\n\nDer digitale Mama Alltag fordert unser Nervensystem oft mehr\, als wir wahrnehmen. Dieser Vortrag zeigt\, wie wir Reizüberflutung und Perfektionsdruck früher erkennen und wieder stärker ins eigene Spüren finden. Mit einfachen\, nervensystemfreundlichen Mini Tools gelingt es\, Selbstführung zurückzugewinnen und im Alltag stabil zu bleiben. Ein kompakter Impuls für mehr innere Ruhe und moderne mentale Stärke. \n\n\nmit Vera STANGER
URL:https://www.femvents.at/event/ki-vs-ki-koerperintelligenz-trifft-kuenstliche-intelligenz/
LOCATION:Linz
CATEGORIES:Oberösterreich,Workshop
ATTACH;FMTTYPE=image/png:https://www.femvents.at/wp-content/uploads/2025/06/femvents_eventbild.png
END:VEVENT
BEGIN:VEVENT
DTSTART;TZID=Europe/Vienna:20260610T163000
DTEND;TZID=Europe/Vienna:20260610T180000
DTSTAMP:20260422T191308
CREATED:20260317T091543Z
LAST-MODIFIED:20260317T091543Z
UID:10000934-1781109000-1781114400@www.femvents.at
SUMMARY:Die Gesichter des Narzissmus
DESCRIPTION:Treffpunkt Frauenwissen\n\nNarzissmus ist oft subtil\, charmant und verunsichernd – und hinterlässt tiefe Spuren: Zweifel an sich selbst\, das Gefühl\, nicht genug zu sein\, der Verlust der eigenen Stimme. Wer narzisstischen Dynamiken in Beziehungen\, Familie oder Beruf begegnet\, kennt diese innere Erschöpfung nur zu gut. Im Fokus steht\, bewusst Grenzen zu setzen – klar\, ruhig und ohne Rechtfertigung – sowie eine wirksame Kommunikation zu entwickeln\, die die eigene Position stärkt und Manipulation ihre Macht entzieht. \n\n\nmit Veronika KUNZE
URL:https://www.femvents.at/event/die-gesichter-des-narzissmus/
LOCATION:Linz
CATEGORIES:Oberösterreich,Workshop
ATTACH;FMTTYPE=image/png:https://www.femvents.at/wp-content/uploads/2025/06/femvents_eventbild.png
END:VEVENT
BEGIN:VEVENT
DTSTART;TZID=Europe/Vienna:20260624T163000
DTEND;TZID=Europe/Vienna:20260624T180000
DTSTAMP:20260422T191308
CREATED:20260317T091454Z
LAST-MODIFIED:20260317T091643Z
UID:10000933-1782318600-1782324000@www.femvents.at
SUMMARY:Kreativität als Stärke „Meine Kreativität leben“
DESCRIPTION:Treffpunkt Frauenwissen\n\n\nWir beleuchten\, wie kreative Fähigkeiten Selbstvertrauen stärken und wie Herausforderungen des täglichen Lebens mithilfe kreativer Ansätze neu gelöst werden können. Ziel des Vortrags ist es\, Kreativität als persönliche Ressource zu entdecken\, eigene Stärken sichtbar zu machen und sie bewusst für Erfolg\, Zufriedenheit und Innovation einzusetzen. \n\n\nmit Veronika KUNZE
URL:https://www.femvents.at/event/kreativitaet-als-staerke-meine-kreativitaet-leben/
LOCATION:Linz
CATEGORIES:Oberösterreich,Workshop
ATTACH;FMTTYPE=image/png:https://www.femvents.at/wp-content/uploads/2025/06/femvents_eventbild.png
END:VEVENT
BEGIN:VEVENT
DTSTART;TZID=Europe/Vienna:20260701T163000
DTEND;TZID=Europe/Vienna:20260701T180000
DTSTAMP:20260422T191308
CREATED:20260317T091730Z
LAST-MODIFIED:20260317T091730Z
UID:10000936-1782923400-1782928800@www.femvents.at
SUMMARY:Körperliebe statt Körperkritik
DESCRIPTION:Treffpunkt Frauenwissen\n\nIn diesem Impuls erfahren die Teilnehmenden\, wie sie einen liebevolleren\, achtsameren Blick auf ihren eigenen Körper entwickeln können. Statt sich von Selbstzweifeln oder äußeren Erwartungen leiten zu lassen\, lernen sie einfache Wege kennen\, um mehr Wertschätzung\, Vertrauen und innere Ruhe zu kultivieren. Kurze Reflexionsübungen und alltagstaugliche Impulse unterstützen dabei\, den eigenen Körper als Verbündeten wahrzunehmen und eine stärkende\, freundliche Beziehung zu sich selbst aufzubauen. \n\n\nmit Jana SIMBÜRGER
URL:https://www.femvents.at/event/koerperliebe-statt-koerperkritik/
LOCATION:Linz
CATEGORIES:Oberösterreich,Workshop
ATTACH;FMTTYPE=image/png:https://www.femvents.at/wp-content/uploads/2025/06/femvents_eventbild.png
END:VEVENT
END:VCALENDAR