BEGIN:VCALENDAR
VERSION:2.0
PRODID:-//femvents.at - ECPv6.15.18//NONSGML v1.0//EN
CALSCALE:GREGORIAN
METHOD:PUBLISH
X-WR-CALNAME:femvents.at
X-ORIGINAL-URL:https://www.femvents.at
X-WR-CALDESC:Veranstaltungen für femvents.at
REFRESH-INTERVAL;VALUE=DURATION:PT1H
X-Robots-Tag:noindex
X-PUBLISHED-TTL:PT1H
BEGIN:VTIMEZONE
TZID:Europe/Vienna
BEGIN:DAYLIGHT
TZOFFSETFROM:+0100
TZOFFSETTO:+0200
TZNAME:CEST
DTSTART:20250330T010000
END:DAYLIGHT
BEGIN:STANDARD
TZOFFSETFROM:+0200
TZOFFSETTO:+0100
TZNAME:CET
DTSTART:20251026T010000
END:STANDARD
BEGIN:DAYLIGHT
TZOFFSETFROM:+0100
TZOFFSETTO:+0200
TZNAME:CEST
DTSTART:20260329T010000
END:DAYLIGHT
BEGIN:STANDARD
TZOFFSETFROM:+0200
TZOFFSETTO:+0100
TZNAME:CET
DTSTART:20261025T010000
END:STANDARD
BEGIN:DAYLIGHT
TZOFFSETFROM:+0100
TZOFFSETTO:+0200
TZNAME:CEST
DTSTART:20270328T010000
END:DAYLIGHT
BEGIN:STANDARD
TZOFFSETFROM:+0200
TZOFFSETTO:+0100
TZNAME:CET
DTSTART:20271031T010000
END:STANDARD
END:VTIMEZONE
BEGIN:VEVENT
DTSTART;TZID=Europe/Vienna:20260429T180000
DTEND;TZID=Europe/Vienna:20260429T210000
DTSTAMP:20260422T223822
CREATED:20260422T153507Z
LAST-MODIFIED:20260422T153507Z
UID:10001160-1777485600-1777496400@www.femvents.at
SUMMARY:THE:Migrant Voices - Meet & Connect
DESCRIPTION:THE:Migrant Voices – Meet & Connect\nA new space to meet\, connect and share experiences!\nWe’re launching Migrant Voices: Meet & Connect a new\, low-key format for women* in Vienna who were not born in Austria and are building their lives here\, whether for studies\, work or somewhere in between. \nWhether you’ve just arrived or have been here for a while: This space is about sharing experiences\, exchanging perspectives and connecting with others who might be navigating similar realities. From everyday challenges to bigger questions around work\, systems and finding your place – there’s room for your topics! \nCome by\, grab a drink and meet new people in a relaxed setting. No pressure\, no expectations – just conversations and connection. We are looking forward to seeing you! \nWhen?         // 29. 04. 2026\, 18:00\nWhere?             // Magdas Hotel\nFor who?  // Women* in Vienna who were not born in Austria \nWith?          // Evin Ersen \nRegistration?// via Eventbrite
URL:https://www.femvents.at/event/themigrant-voices-meet-connect/
LOCATION:Magdas Hotel
CATEGORIES:Coaching,Netzwerk-Treffen
END:VEVENT
END:VCALENDAR