BEGIN:VCALENDAR
VERSION:2.0
PRODID:-//femvents.at - ECPv6.15.18//NONSGML v1.0//EN
CALSCALE:GREGORIAN
METHOD:PUBLISH
X-WR-CALNAME:femvents.at
X-ORIGINAL-URL:https://www.femvents.at
X-WR-CALDESC:Veranstaltungen für femvents.at
REFRESH-INTERVAL;VALUE=DURATION:PT1H
X-Robots-Tag:noindex
X-PUBLISHED-TTL:PT1H
BEGIN:VTIMEZONE
TZID:Europe/Vienna
BEGIN:DAYLIGHT
TZOFFSETFROM:+0100
TZOFFSETTO:+0200
TZNAME:CEST
DTSTART:20240331T010000
END:DAYLIGHT
BEGIN:STANDARD
TZOFFSETFROM:+0200
TZOFFSETTO:+0100
TZNAME:CET
DTSTART:20241027T010000
END:STANDARD
BEGIN:DAYLIGHT
TZOFFSETFROM:+0100
TZOFFSETTO:+0200
TZNAME:CEST
DTSTART:20250330T010000
END:DAYLIGHT
BEGIN:STANDARD
TZOFFSETFROM:+0200
TZOFFSETTO:+0100
TZNAME:CET
DTSTART:20251026T010000
END:STANDARD
BEGIN:DAYLIGHT
TZOFFSETFROM:+0100
TZOFFSETTO:+0200
TZNAME:CEST
DTSTART:20260329T010000
END:DAYLIGHT
BEGIN:STANDARD
TZOFFSETFROM:+0200
TZOFFSETTO:+0100
TZNAME:CET
DTSTART:20261025T010000
END:STANDARD
END:VTIMEZONE
BEGIN:VEVENT
DTSTART;TZID=Europe/Vienna:20251104T150000
DTEND;TZID=Europe/Vienna:20251104T180000
DTSTAMP:20260422T231916
CREATED:20251007T081118Z
LAST-MODIFIED:20251031T094340Z
UID:10000361-1762268400-1762279200@www.femvents.at
SUMMARY:„Ich – eine Expertin?“ Entdecke deine Expertise und mach deine Kompetenzen sichtbar!
DESCRIPTION:FELIN und das Regionalmangement Obersteiermark Ost präsentieren eine exklusive Workshop Reihe!\nIn diesem interaktiven Workshop laden wir dich ein\, deine eigene Expertise zu erkunden und zu stärken\, während du lernst\, sie souverän zu präsentieren und erfolgreich zu verkaufen.\nOft unterschätzen wir unser eigenes Können und wissen nicht\, wie wir es effektiv kommunizieren können. In diesem Workshop werden wir gemeinsam herausfinden\, was dich einzigartig macht und wie du diese Einzigartigkeit gezielt\neinsetzen kannst\, um deine Ziele zu erreichen. \nSei dabei und entdecke das Potenzial\, das in dir steckt! \nWAS DICH ERWARTET:\n15:00 – 18:00 Uhr (Workshop)\,\n➜ Entwicklung des eigenen Kompetenzprofils\n➜ Reflexion über den eigenen (Selbst) Wert\n➜ Stärkung deines souveränen Auftritts als Expertin\n➜ Vernetzungsmöglichkeit mit lokalen Expertinnen \nABLAUF DES WORKSHOPS:\n➜ Begrüßung durch das Regionalmanagement\nObersteiermark Ost\n➜ Interaktiver Workshop mit Trainerin Lisa Rücker \nTEILNAHMEBEDINGUNGEN:\n➜ Frauen aus allen Disziplinen und Kontexten sind herzlich\nwillkommen\n➜ Teilnahmegebühr: € 40\,- / Teilnehmerin\n➜ Anmeldung erforderlich bei:\npaula.nittel@felin.at bis spätestens 28. Oktober 2025
URL:https://www.femvents.at/event/ich-eine-expertin-entdecke-deine-expertise-und-mach-deine-kompetenzen-sichtbar-2/
LOCATION:Messe „Bildung für alle“ – HBLA für Forstwirtschaft\, Dr.-Theodor-Körner- Straße 44\, Bruck a.d.Mur\, Steiermark\, Austria
CATEGORIES:Steiermark,Workshop
ATTACH;FMTTYPE=image/png:https://www.femvents.at/wp-content/uploads/2025/10/250912_Expertin_05_Head-scaled.png
ORGANIZER;CN="FELIN_female leaders initiative":MAILTO:paula.nittel@felin.at
GEO:47.4078797;15.2610617
X-APPLE-STRUCTURED-LOCATION;VALUE=URI;X-ADDRESS=Messe „Bildung für alle“ – HBLA für Forstwirtschaft Dr.-Theodor-Körner- Straße 44 Bruck a.d.Mur Steiermark Austria;X-APPLE-RADIUS=500;X-TITLE=Dr.-Theodor-Körner- Straße 44:geo:15.2610617,47.4078797
END:VEVENT
END:VCALENDAR