BEGIN:VCALENDAR
VERSION:2.0
PRODID:-//femvents.at - ECPv6.15.18//NONSGML v1.0//EN
CALSCALE:GREGORIAN
METHOD:PUBLISH
X-WR-CALNAME:femvents.at
X-ORIGINAL-URL:https://www.femvents.at
X-WR-CALDESC:Veranstaltungen für femvents.at
REFRESH-INTERVAL;VALUE=DURATION:PT1H
X-Robots-Tag:noindex
X-PUBLISHED-TTL:PT1H
BEGIN:VTIMEZONE
TZID:Europe/Vienna
BEGIN:DAYLIGHT
TZOFFSETFROM:+0100
TZOFFSETTO:+0200
TZNAME:CEST
DTSTART:20250330T010000
END:DAYLIGHT
BEGIN:STANDARD
TZOFFSETFROM:+0200
TZOFFSETTO:+0100
TZNAME:CET
DTSTART:20251026T010000
END:STANDARD
BEGIN:DAYLIGHT
TZOFFSETFROM:+0100
TZOFFSETTO:+0200
TZNAME:CEST
DTSTART:20260329T010000
END:DAYLIGHT
BEGIN:STANDARD
TZOFFSETFROM:+0200
TZOFFSETTO:+0100
TZNAME:CET
DTSTART:20261025T010000
END:STANDARD
BEGIN:DAYLIGHT
TZOFFSETFROM:+0100
TZOFFSETTO:+0200
TZNAME:CEST
DTSTART:20270328T010000
END:DAYLIGHT
BEGIN:STANDARD
TZOFFSETFROM:+0200
TZOFFSETTO:+0100
TZNAME:CET
DTSTART:20271031T010000
END:STANDARD
END:VTIMEZONE
BEGIN:VEVENT
DTSTART;TZID=Europe/Vienna:20260312T180000
DTEND;TZID=Europe/Vienna:20260312T210000
DTSTAMP:20260423T002128
CREATED:20260212T104506Z
LAST-MODIFIED:20260212T104516Z
UID:10000808-1773338400-1773349200@www.femvents.at
SUMMARY:„Frauen & Erfolg“ – eine inspirierende Ausstellung über Mut\, Stärke und den eigenen Weg!
DESCRIPTION:SAVE THE DATE – 12.03.2026\, 18:00 Uhr\, Murinsel Graz\n\n\nDie wunderbare Fotografin und Autorin Katheryna Fedorova hat dieses Projekt in Rekordzeit auf die Beine gestellt – zu dessen Eröffnungs-Event wir euch herzlich einladen!„Frauen & Erfolg“ – eine inspirierende Ausstellung über Mut\, Stärke und den eigenen Weg! 18 Porträts erfolgreicher Frauen aus Graz.\n\n\nEchte Geschichten über Herausforderungen und Durchbrüche\, Inspiration\, Tiefe und weibliche Kraft.\n\n\nEröffnungs-Event: 12. März\, 18:00\, Murinsel\, 8010 Graz– mit Interviews & Vorstellung des begleitenden Buchprojekts\, tollen Auftritten von wunderbaren Sängerinnen und vielem mehr!Moderation: Barbara Tesar\n\n\n\n\n\nAusstellung: 23.02. – 15.04.2026\, Murinsel 8010 Graz\n\n\n\n\n\nDiese Ausstellung zeigt Frauen\, die ihren Weg gegangen sind – trotz Zweifel und trotz Widerständen.\n\n\nEin Projekt über Sichtbarkeit\, Vertrauen und Erfolg.\n\n\n\n\n\nWir freuen uns sehr auf euch!
URL:https://www.femvents.at/event/frauen-erfolg-eine-inspirierende-ausstellung-ueber-mut-staerke-und-den-eigenen-weg/
LOCATION:Murinsel\, 8010 Graz\, Murkai\, Graz\, Steiermark\, 8010\, Austria
CATEGORIES:Steiermark
ATTACH;FMTTYPE=image/jpeg:https://www.femvents.at/wp-content/uploads/2026/02/c326eccc-5f49-40fc-a9c4-259377cea99b.jpeg
GEO:47.0743531;15.454803
X-APPLE-STRUCTURED-LOCATION;VALUE=URI;X-ADDRESS=Murinsel 8010 Graz Murkai Graz Steiermark 8010 Austria;X-APPLE-RADIUS=500;X-TITLE=Murkai:geo:15.454803,47.0743531
END:VEVENT
END:VCALENDAR