BEGIN:VCALENDAR
VERSION:2.0
PRODID:-//femvents.at - ECPv6.15.18//NONSGML v1.0//EN
CALSCALE:GREGORIAN
METHOD:PUBLISH
X-ORIGINAL-URL:https://www.femvents.at
X-WR-CALDESC:Veranstaltungen für femvents.at
REFRESH-INTERVAL;VALUE=DURATION:PT1H
X-Robots-Tag:noindex
X-PUBLISHED-TTL:PT1H
BEGIN:VTIMEZONE
TZID:Europe/Vienna
BEGIN:DAYLIGHT
TZOFFSETFROM:+0100
TZOFFSETTO:+0200
TZNAME:CEST
DTSTART:20250330T010000
END:DAYLIGHT
BEGIN:STANDARD
TZOFFSETFROM:+0200
TZOFFSETTO:+0100
TZNAME:CET
DTSTART:20251026T010000
END:STANDARD
BEGIN:DAYLIGHT
TZOFFSETFROM:+0100
TZOFFSETTO:+0200
TZNAME:CEST
DTSTART:20260329T010000
END:DAYLIGHT
BEGIN:STANDARD
TZOFFSETFROM:+0200
TZOFFSETTO:+0100
TZNAME:CET
DTSTART:20261025T010000
END:STANDARD
BEGIN:DAYLIGHT
TZOFFSETFROM:+0100
TZOFFSETTO:+0200
TZNAME:CEST
DTSTART:20270328T010000
END:DAYLIGHT
BEGIN:STANDARD
TZOFFSETFROM:+0200
TZOFFSETTO:+0100
TZNAME:CET
DTSTART:20271031T010000
END:STANDARD
END:VTIMEZONE
BEGIN:VEVENT
DTSTART;TZID=Europe/Vienna:20260308T121500
DTEND;TZID=Europe/Vienna:20260308T200000
DTSTAMP:20260423T060615
CREATED:20260115T170826Z
LAST-MODIFIED:20260115T170826Z
UID:10000683-1772972100-1773000000@www.femvents.at
SUMMARY:Neufeld LLL-FRAUENTREFF - WOMANS DAY
DESCRIPTION:🎉 WOMANS DAY \nEin Tag nur für uns Frauen – zum Feiern\, Austauschen\, Lachen & Genießen! 💃🏻🥳\nGemeinsam machen wir den Weltfrauentag bunt\, herzlich und voller guter Vibes 🌸✨ \n👉 Du hast die Wahl:\nMittags-Brunch-Liebe: Sei von 12:15 bis 15:00 Uhr dabei  € 29\,00 pro Person (ohne Getränke)\nSpäter dazukommen: Komm ab 15:00 Uhr dazu und feiere mit uns weiter \nEgal wann du kommst – du bist herzlich willkommen! 💕\nBring gute Laune mit und feier mit uns das Frau-sein 🎉🩷 \n💬 Wer ist dabei? Wir freuen uns auf dich! 💃🏻✨ alle Frauen sind herzlich willkommen 🤗 \nUnbedingt Platzreservierung für Brunch!\ninfo@vereinlebenliebenlachen.at
URL:https://www.femvents.at/event/neufeld-lll-frauentreff-womans-day/
LOCATION:Neufeldersee Hotel & Restaurant\, Austria
CATEGORIES:Burgenland
ATTACH;FMTTYPE=image/jpeg:https://www.femvents.at/wp-content/uploads/2026/01/IMG_3905.jpeg
ORGANIZER;CN="Verein 'LEBEN%2C LIEBEN%2C LACHEN - endlich wei%C3%9F ich wie!'":MAILTO:info@vereinlebenliebenlachen.at
GEO:47.516231;14.550072
END:VEVENT
END:VCALENDAR