BEGIN:VCALENDAR
VERSION:2.0
PRODID:-//femvents.at - ECPv6.15.18//NONSGML v1.0//EN
CALSCALE:GREGORIAN
METHOD:PUBLISH
X-ORIGINAL-URL:https://www.femvents.at
X-WR-CALDESC:Veranstaltungen für femvents.at
REFRESH-INTERVAL;VALUE=DURATION:PT1H
X-Robots-Tag:noindex
X-PUBLISHED-TTL:PT1H
BEGIN:VTIMEZONE
TZID:Europe/Vienna
BEGIN:DAYLIGHT
TZOFFSETFROM:+0100
TZOFFSETTO:+0200
TZNAME:CEST
DTSTART:20240331T010000
END:DAYLIGHT
BEGIN:STANDARD
TZOFFSETFROM:+0200
TZOFFSETTO:+0100
TZNAME:CET
DTSTART:20241027T010000
END:STANDARD
BEGIN:DAYLIGHT
TZOFFSETFROM:+0100
TZOFFSETTO:+0200
TZNAME:CEST
DTSTART:20250330T010000
END:DAYLIGHT
BEGIN:STANDARD
TZOFFSETFROM:+0200
TZOFFSETTO:+0100
TZNAME:CET
DTSTART:20251026T010000
END:STANDARD
BEGIN:DAYLIGHT
TZOFFSETFROM:+0100
TZOFFSETTO:+0200
TZNAME:CEST
DTSTART:20260329T010000
END:DAYLIGHT
BEGIN:STANDARD
TZOFFSETFROM:+0200
TZOFFSETTO:+0100
TZNAME:CET
DTSTART:20261025T010000
END:STANDARD
BEGIN:DAYLIGHT
TZOFFSETFROM:+0100
TZOFFSETTO:+0200
TZNAME:CEST
DTSTART:20270328T010000
END:DAYLIGHT
BEGIN:STANDARD
TZOFFSETFROM:+0200
TZOFFSETTO:+0100
TZNAME:CET
DTSTART:20271031T010000
END:STANDARD
END:VTIMEZONE
BEGIN:VEVENT
DTSTART;TZID=Europe/Vienna:20260224T173000
DTEND;TZID=Europe/Vienna:20260224T173000
DTSTAMP:20260422T210844
CREATED:20260129T082723Z
LAST-MODIFIED:20260129T082723Z
UID:10000732-1771954200-1771954200@www.femvents.at
SUMMARY:Dein Innerer Kompass - Workshop
DESCRIPTION:Du jonglierst täglich mit hundert Bällen gleichzeitig – Job\, Familie\, Haushalt\, die Erwartungen von allen anderen. Und irgendwo zwischen „Ja\, mach ich“ und „Kein Problem“ bist du selbst komplett abhandengekommen. \nKennst du das? Du funktionierst wie ein Uhrwerk\, aber wenn dich wer fragt\, was du eigentlich willst\, schaust du ihn an wie ein Auto? Und Entscheidungen? Die fallen dir schwerer als die Wahl zwischen Schnitzel und Cordon Bleu. \nIn diesem Workshop nehmen wir uns Zeit – für dich. Ja\, wirklich nur für dich. \nWir graben deine Werte\, Stärken und Prioritäten wieder aus – die sind nämlich noch da\, nur verschüttet unter lauter „Ich sollte eigentlich…“-Gedanken. Du lernst\, wie du aus dem Nebel rauskommst und endlich wieder klar siehst\, was dir wirklich wichtig ist. \nDamit du aufhörst\, dich zu verbiegen. Damit Entscheidungen wieder leicht fallen. Und damit du endlich wieder spürst: Das bin ich. Und zwar ohne schlechtes Gewissen.
URL:https://www.femvents.at/event/dein-innerer-kompass-workshop-2/
LOCATION:Praxiskreis\, Stumpergasse 48/18\, Wien\, Wien\, 1060\, Austria
CATEGORIES:After Work,Coaching,Kurs,Wien,Workshop
ATTACH;FMTTYPE=image/jpeg:https://www.femvents.at/wp-content/uploads/2026/01/Workshop-Insta.jpg
ORGANIZER;CN="Angelika Fabian":MAILTO:hallo@die-fabian.at
GEO:48.1947246;16.3437599
X-APPLE-STRUCTURED-LOCATION;VALUE=URI;X-ADDRESS=Praxiskreis Stumpergasse 48/18 Wien Wien 1060 Austria;X-APPLE-RADIUS=500;X-TITLE=Stumpergasse 48/18:geo:16.3437599,48.1947246
END:VEVENT
BEGIN:VEVENT
DTSTART;TZID=Europe/Vienna:20251129T140000
DTEND;TZID=Europe/Vienna:20251129T160000
DTSTAMP:20260422T210844
CREATED:20251029T112204Z
LAST-MODIFIED:20251029T112204Z
UID:10000451-1764424800-1764432000@www.femvents.at
SUMMARY:Dieses Jahr bin ich mein eigenes Christkind! - Workshop
DESCRIPTION:Die Vorweihnachtszeit kann wunderschön sein und trotzdem viele Frauen an ihre Grenzen bringen. Zwischen Geschenke-Listen\, Familien-Organisation und Arbeit bleibt oft keine Minute zum Durchatmen. Man funktioniert und merkt erst zu spät\, dass die eigene Energie längst leer ist. \nGenau hier setzt dieser Workshop an.Du bekommst einfache mentale Tools und Denkanstöße\, mit denen du rechtzeitig auf Pause drücken kannst\, bevor der Druck zu groß wird. Du lernst\, kleine Routinen in deinen Alltag einzubauen\, die dich wieder zentrieren und dir helfen\, mit mehr Humor\, Klarheit und Leichtigkeit durch die Feiertage zu gehen. \nDenn Weihnachten soll sich gut anfühlen und nicht nach Pflichtprogramm.Dieser Workshop ist für Frauen\, die sich selbst wieder an erste Stelle setzen wollen – ohne schlechtes Gewissen.
URL:https://www.femvents.at/event/dieses-jahr-bin-ich-mein-eigenes-christkind-workshop-2/
LOCATION:Praxiskreis\, Stumpergasse 48/18\, Wien\, Wien\, 1060\, Austria
CATEGORIES:Wien,Workshop
ATTACH;FMTTYPE=image/jpeg:https://www.femvents.at/wp-content/uploads/2025/10/Flyer-Christkind-1-1.jpg
ORGANIZER;CN="Angelika":MAILTO:hallo@die-fabian.at
GEO:48.1947246;16.3437599
X-APPLE-STRUCTURED-LOCATION;VALUE=URI;X-ADDRESS=Praxiskreis Stumpergasse 48/18 Wien Wien 1060 Austria;X-APPLE-RADIUS=500;X-TITLE=Stumpergasse 48/18:geo:16.3437599,48.1947246
END:VEVENT
BEGIN:VEVENT
DTSTART;TZID=Europe/Vienna:20251124T173000
DTEND;TZID=Europe/Vienna:20251124T193000
DTSTAMP:20260422T210844
CREATED:20251105T084831Z
LAST-MODIFIED:20251105T084831Z
UID:10000452-1764005400-1764012600@www.femvents.at
SUMMARY:Dein Innerer Kompass - Workshop
DESCRIPTION:Du triffst täglich unzählige Entscheidungen – im Job\, in der Familie\, im Alltag. Oft läuft alles gleichzeitig\, und du versuchst\, allem gerecht zu werden. Irgendwann fragst du dich: Was davon will eigentlich ich und was mache ich\, weil ich glaube\, es wird von mir erwartet? \nViele Frauen verlieren im Laufe der Jahre das Gefühl dafür\, was sie wirklich leitet. Zwischen Verantwortung\, Perfektionismus und To-do-Listen rückt die eigene innere Stimme immer weiter in den Hintergrund. Statt klarer zu werden\, wird es diffuser: zu viele Meinungen\, zu viele Möglichkeiten\, zu wenig Raum zum Innehalten. \nGenau hier setzt dieser Workshop an.„Dein innerer Kompass“ hilft dir\, wieder Zugang zu dir selbst zu finden – zu deinen Werten\, Stärken und Prioritäten. Du erkennst\, warum du manchmal gegen dich selbst arbeitest\, und wie du wieder Entscheidungen triffst\, die sich stimmig anfühlen\, und das auch ohne schlechtes Gewissen. \nDas Ziel: mehr Orientierung\, Klarheit und Vertrauen in deine eigene Richtung.Denn sobald du weißt\, was dich wirklich leitet\, wird vieles einfacher – beruflich wie privat. \nEin Workshop für Frauen\, die spüren\, dass sie sich selbst wieder an erste Stelle setzen dürfen\, nicht als Egoismus\, sondern als liebevolle Form von Selbstführung.
URL:https://www.femvents.at/event/dein-innerer-kompass-workshop/
LOCATION:Praxiskreis\, Stumpergasse 48/18\, Wien\, Wien\, 1060\, Austria
CATEGORIES:Wien,Workshop
ATTACH;FMTTYPE=image/jpeg:https://www.femvents.at/wp-content/uploads/2025/10/Flyer-Dein-innerer-Kompass-1.jpg
ORGANIZER;CN="Angelika":MAILTO:hallo@die-fabian.at
GEO:48.1947246;16.3437599
X-APPLE-STRUCTURED-LOCATION;VALUE=URI;X-ADDRESS=Praxiskreis Stumpergasse 48/18 Wien Wien 1060 Austria;X-APPLE-RADIUS=500;X-TITLE=Stumpergasse 48/18:geo:16.3437599,48.1947246
END:VEVENT
BEGIN:VEVENT
DTSTART;TZID=Europe/Vienna:20251111T173000
DTEND;TZID=Europe/Vienna:20251111T193000
DTSTAMP:20260422T210844
CREATED:20251029T112141Z
LAST-MODIFIED:20251029T112141Z
UID:10000450-1762882200-1762889400@www.femvents.at
SUMMARY:Dieses Jahr bin ich mein eigenes Christkind! - Workshop
DESCRIPTION:Die Vorweihnachtszeit kann wunderschön sein und trotzdem viele Frauen an ihre Grenzen bringen. Zwischen Geschenke-Listen\, Familien-Organisation und Arbeit bleibt oft keine Minute zum Durchatmen. Man funktioniert und merkt erst zu spät\, dass die eigene Energie längst leer ist. \nGenau hier setzt dieser Workshop an.Du bekommst einfache mentale Tools und Denkanstöße\, mit denen du rechtzeitig auf Pause drücken kannst\, bevor der Druck zu groß wird. Du lernst\, kleine Routinen in deinen Alltag einzubauen\, die dich wieder zentrieren und dir helfen\, mit mehr Humor\, Klarheit und Leichtigkeit durch die Feiertage zu gehen. \nDenn Weihnachten soll sich gut anfühlen und nicht nach Pflichtprogramm.Dieser Workshop ist für Frauen\, die sich selbst wieder an erste Stelle setzen wollen\, ohne schlechtes Gewissen!
URL:https://www.femvents.at/event/dieses-jahr-bin-ich-mein-eigenes-christkind-workshop/
LOCATION:Praxiskreis\, Stumpergasse 48/18\, Wien\, Wien\, 1060\, Austria
CATEGORIES:Wien,Workshop
ATTACH;FMTTYPE=image/jpeg:https://www.femvents.at/wp-content/uploads/2025/10/Flyer-Christkind-1.jpg
ORGANIZER;CN="Angelika Fabian":MAILTO:hallo@die-fabian.at
GEO:48.1947246;16.3437599
X-APPLE-STRUCTURED-LOCATION;VALUE=URI;X-ADDRESS=Praxiskreis Stumpergasse 48/18 Wien Wien 1060 Austria;X-APPLE-RADIUS=500;X-TITLE=Stumpergasse 48/18:geo:16.3437599,48.1947246
END:VEVENT
END:VCALENDAR