BEGIN:VCALENDAR
VERSION:2.0
PRODID:-//femvents.at - ECPv6.15.18//NONSGML v1.0//EN
CALSCALE:GREGORIAN
METHOD:PUBLISH
X-WR-CALNAME:femvents.at
X-ORIGINAL-URL:https://www.femvents.at
X-WR-CALDESC:Veranstaltungen für femvents.at
REFRESH-INTERVAL;VALUE=DURATION:PT1H
X-Robots-Tag:noindex
X-PUBLISHED-TTL:PT1H
BEGIN:VTIMEZONE
TZID:Europe/Vienna
BEGIN:DAYLIGHT
TZOFFSETFROM:+0100
TZOFFSETTO:+0200
TZNAME:CEST
DTSTART:20250330T010000
END:DAYLIGHT
BEGIN:STANDARD
TZOFFSETFROM:+0200
TZOFFSETTO:+0100
TZNAME:CET
DTSTART:20251026T010000
END:STANDARD
BEGIN:DAYLIGHT
TZOFFSETFROM:+0100
TZOFFSETTO:+0200
TZNAME:CEST
DTSTART:20260329T010000
END:DAYLIGHT
BEGIN:STANDARD
TZOFFSETFROM:+0200
TZOFFSETTO:+0100
TZNAME:CET
DTSTART:20261025T010000
END:STANDARD
BEGIN:DAYLIGHT
TZOFFSETFROM:+0100
TZOFFSETTO:+0200
TZNAME:CEST
DTSTART:20270328T010000
END:DAYLIGHT
BEGIN:STANDARD
TZOFFSETFROM:+0200
TZOFFSETTO:+0100
TZNAME:CET
DTSTART:20271031T010000
END:STANDARD
END:VTIMEZONE
BEGIN:VEVENT
DTSTART;TZID=Europe/Vienna:20260224T060000
DTEND;TZID=Europe/Vienna:20260224T060000
DTSTAMP:20260422T213259
CREATED:20260108T162545Z
LAST-MODIFIED:20260203T084615Z
UID:10000648-1771912800-1771912800@www.femvents.at
SUMMARY:WECHSELJAHRE - Feng Shui & Epigenetik
DESCRIPTION:Nina Strasser Feng Shui Expertin &  \nKarin Leitner Dornik Expertin für Prävention- Epigenetik und Healthy Aiging \nDEINE WECHSELJAHRE & DEINE RAUMGESTALTUNG \nWie dich deine Räume in deiner Wandlungszeit unterstützen: \nEin neuer Zyklus deines Frauseins beginnt – eine Zeit der Rückverbindung\, des Loslassens und der Neuausrichtung. \nDie Wechseljahre laden dich ein\, dein Leben bewusst zu entschleunigen\, Kraft zu schöpfen und bei dir selbst anzukommen – in deinem Körper\, deinem Rhythmus\, deinem Zuhause. \nAn diesem Abend erfährst du\, wie du deine Räume in dieser sensiblen Lebensphase stärkend begleiten kannst.  \nDu lernst\, wie du gezielt mit Feng Shui\, Farben\, Materialien\, Licht und ausgewählten energetischen Hilfsmitteln (wie Aura-Soma Ölen\, Raumsprays und Räucherstoffen) eine Umgebung schaffst\, die dich nährt\, beruhigt und wieder mit deiner inneren Mitte verbindet. \nHEALTHY AGING – WIE DU DEIN ALTERN MITGESTALTEST \nSo wie sich deine Räume wandeln\, verändern sich auch dein Körper und deine Zellen. Mit dem Eintritt in die Wechseljahre beginnt ein innerer Umbau – hormonell\, körperlich und seelisch.  \nDie Epigenetik zeigt uns:  \nDu kannst beeinflussen\, welche Gene aktiv sind und wie sie gelesen werden. Damit hast du die Möglichkeit\, deine Gesundheit und dein Wohlbefinden bewusst zu steuern. \nAn diesem Abend erfährst du\, wie du deine Zellen stärken\, den natürlichen Rhythmus deines Körpers unterstützen und dein Altern positiv beeinflussen kannst. Du lernst\, welche kleinen Veränderungen im Alltag eine große Wirkung entfalten – für mehr Vitalität\, Klarheit und innere Balance.
URL:https://www.femvents.at/event/wechseljahre-feng-shui-epigenetik/
LOCATION:rosa&rot Franz-Kirch-Straße 4/1\, 3370 Ybbs an der Donau\, Österreich\, Franz-Kirch-Straße 4/1\, Ybbs an der Donau\, Niederösterreich\, 3370\, Austria
CATEGORIES:Frauenkreis,Niederösterreich,Oberösterreich,Vortrag
GEO:48.177486;15.0844313
X-APPLE-STRUCTURED-LOCATION;VALUE=URI;X-ADDRESS=rosa&rot Franz-Kirch-Straße 4/1 3370 Ybbs an der Donau Österreich Franz-Kirch-Straße 4/1 Ybbs an der Donau Niederösterreich 3370 Austria;X-APPLE-RADIUS=500;X-TITLE=Franz-Kirch-Straße 4/1:geo:15.0844313,48.177486
END:VEVENT
END:VCALENDAR