BEGIN:VCALENDAR
VERSION:2.0
PRODID:-//femvents.at - ECPv6.15.18//NONSGML v1.0//EN
CALSCALE:GREGORIAN
METHOD:PUBLISH
X-WR-CALNAME:femvents.at
X-ORIGINAL-URL:https://www.femvents.at
X-WR-CALDESC:Veranstaltungen für femvents.at
REFRESH-INTERVAL;VALUE=DURATION:PT1H
X-Robots-Tag:noindex
X-PUBLISHED-TTL:PT1H
BEGIN:VTIMEZONE
TZID:Europe/Vienna
BEGIN:DAYLIGHT
TZOFFSETFROM:+0100
TZOFFSETTO:+0200
TZNAME:CEST
DTSTART:20250330T010000
END:DAYLIGHT
BEGIN:STANDARD
TZOFFSETFROM:+0200
TZOFFSETTO:+0100
TZNAME:CET
DTSTART:20251026T010000
END:STANDARD
BEGIN:DAYLIGHT
TZOFFSETFROM:+0100
TZOFFSETTO:+0200
TZNAME:CEST
DTSTART:20260329T010000
END:DAYLIGHT
BEGIN:STANDARD
TZOFFSETFROM:+0200
TZOFFSETTO:+0100
TZNAME:CET
DTSTART:20261025T010000
END:STANDARD
BEGIN:DAYLIGHT
TZOFFSETFROM:+0100
TZOFFSETTO:+0200
TZNAME:CEST
DTSTART:20270328T010000
END:DAYLIGHT
BEGIN:STANDARD
TZOFFSETFROM:+0200
TZOFFSETTO:+0100
TZNAME:CET
DTSTART:20271031T010000
END:STANDARD
END:VTIMEZONE
BEGIN:VEVENT
DTSTART;TZID=Europe/Vienna:20260530T140000
DTEND;TZID=Europe/Vienna:20260530T170000
DTSTAMP:20260422T173158
CREATED:20260227T160708Z
LAST-MODIFIED:20260227T160708Z
UID:10000854-1780149600-1780160400@www.femvents.at
SUMMARY:Colors & Connect Workshop
DESCRIPTION:WIR MALEN\, REFLEKTIEREN UND SCHAFFEN KLEINE\, ALLTAGSTAUGLICHE RITUALE. \nMIT IMPULSEN AUS MENTALTRAINING & COACHING\, KREATIVITÄT & SPIRITUALITÄT\, DIE DICH IN DEINE MITTE HOLEN. \nEIN RAUM\, IN DEM GEFÜHLE PLATZ HABEN\, VERBINDUNG ENTSTEHT\, SINNE SPÜRBAR WERDEN.
URL:https://www.femvents.at/event/colors-connect-workshop/
LOCATION:Salzburg Aigen\, Lotte-Lehmann-Promenade 1\, 5026 Salzburg\, Salzburg\, 5026\, Austria
CATEGORIES:Coaching,Malworkshop,Meditation,Salzburg,Workshop
ATTACH;FMTTYPE=image/jpeg:https://www.femvents.at/wp-content/uploads/2026/02/FullSizeRender-scaled.jpeg
ORGANIZER;CN="Lena Schwarz | Mentalcoach":MAILTO:coachingmitlena@gmail.com
GEO:47.7867781;13.0897846
X-APPLE-STRUCTURED-LOCATION;VALUE=URI;X-ADDRESS=Salzburg Aigen Lotte-Lehmann-Promenade 1 5026 Salzburg Salzburg 5026 Austria;X-APPLE-RADIUS=500;X-TITLE=Lotte-Lehmann-Promenade 1:geo:13.0897846,47.7867781
END:VEVENT
END:VCALENDAR