BEGIN:VCALENDAR
VERSION:2.0
PRODID:-//femvents.at - ECPv6.15.18//NONSGML v1.0//EN
CALSCALE:GREGORIAN
METHOD:PUBLISH
X-ORIGINAL-URL:https://www.femvents.at
X-WR-CALDESC:Veranstaltungen für femvents.at
REFRESH-INTERVAL;VALUE=DURATION:PT1H
X-Robots-Tag:noindex
X-PUBLISHED-TTL:PT1H
BEGIN:VTIMEZONE
TZID:Europe/Vienna
BEGIN:DAYLIGHT
TZOFFSETFROM:+0100
TZOFFSETTO:+0200
TZNAME:CEST
DTSTART:20250330T010000
END:DAYLIGHT
BEGIN:STANDARD
TZOFFSETFROM:+0200
TZOFFSETTO:+0100
TZNAME:CET
DTSTART:20251026T010000
END:STANDARD
BEGIN:DAYLIGHT
TZOFFSETFROM:+0100
TZOFFSETTO:+0200
TZNAME:CEST
DTSTART:20260329T010000
END:DAYLIGHT
BEGIN:STANDARD
TZOFFSETFROM:+0200
TZOFFSETTO:+0100
TZNAME:CET
DTSTART:20261025T010000
END:STANDARD
BEGIN:DAYLIGHT
TZOFFSETFROM:+0100
TZOFFSETTO:+0200
TZNAME:CEST
DTSTART:20270328T010000
END:DAYLIGHT
BEGIN:STANDARD
TZOFFSETFROM:+0200
TZOFFSETTO:+0100
TZNAME:CET
DTSTART:20271031T010000
END:STANDARD
END:VTIMEZONE
BEGIN:VEVENT
DTSTART;TZID=Europe/Vienna:20260424T090000
DTEND;TZID=Europe/Vienna:20260424T170000
DTSTAMP:20260422T190635
CREATED:20260401T203210Z
LAST-MODIFIED:20260401T203210Z
UID:10000982-1777021200-1777050000@www.femvents.at
SUMMARY:Aura - Chakrenbalance Workshop
DESCRIPTION:Fühlst du dich manchmal innerlich unruhig\, obwohl im Außen eigentlich alles in Ordnung scheint? \nWachst du nachts auf und dein Kopf beginnt sofort wieder zu arbeiten\, als würde dein Gedankenkarussell nicht mehr stoppen?\nSpürst du\, dass dein System nach einer Pause und nach neuer Energie ruft?\nDann ist dieses Frühjahrsspecial eine liebevolle Einladung an dich.\nIn diesem Raum lernst du\, dein Energiesystem bewusst wahrzunehmen und sanft neu auszurichten.\nBlockaden werden sichtbar\, dein innerer Raum wird klarer und deine Lebensenergie darf wieder freier fließen.\nWenn dein System sich ordnet\, kehren oft Dinge zurück\, die lange gefehlt haben – Ruhe\, Leichtigkeit\, Lebensfreude und Ausgeglichenheit. \nDu erhältst einfache\, wirkungsvolle Werkzeuge der Energiearbeit\, die du direkt im Alltag anwenden kannst.\nFür dich selbst und auch für andere Menschen.\nStärkende Erdungsübungen\, liebevolle Abgrenzung und energetische Reinigung begleiten dich dabei. \nDu wirst staunend erleben\, wie alltagstauglich\, klar und gleichzeitig\, tiefwirkend diese Werkzeuge sind.\nDu bist hier genau richtig\,\n… wenn du feinfühlig bist und spürst\, dass deine Wahrnehmung tiefer geht\, als das\, was im Alltag sichtbar ist.\n… wenn du lernen möchtest\, deine Energie bewusst zu stärken und energetische Werkzeuge sicher anzuwenden.\n… wenn du bereit bist\, dich intensiver mit deinem inneren Raum und deiner spirituellen Entwicklung zu beschäftigen.\n… wenn du spürst\, dass deine Seele nach Wachstum und Entfaltung ruft. \nDer Frühling beginnt nicht im Außen – er beginnt in dir.\nMit Herzlichkeit\, Freude\, Humor und viel Lebenserfahrung führe ich dich achtsam durch diesen besonderen Workshop. \nFür mehr Erfüllung und einer lichtvolleren Ausstrahlung. Für all das\, was durch dich wirken darf. \nVon Herzen \nMarlies \n  \nOrt: Saminapark-Seminarhaus\, Frastanz\nTermin: 24.04. und 25.04.2026\,\njeweils 9.00 – 17.00 Uhr \nDeine Investition: € 355.- \nweitere Informationen: www.marlies-mock.at
URL:https://www.femvents.at/event/aura-chakrenbalance-workshop/
LOCATION:Saminapark Frastanz\, Hauptmann-Frick-Straße 2a\, Frastanz\, Vorarlberg\, 6820\, Austria
CATEGORIES:Salon13,Vorarlberg,Workshop
ATTACH;FMTTYPE=image/png:https://www.femvents.at/wp-content/uploads/2026/04/Bild1.png
ORGANIZER;CN="Marlies Mock":MAILTO:kontakt@marlies-mock.at
GEO:47.2169008;9.631149
X-APPLE-STRUCTURED-LOCATION;VALUE=URI;X-ADDRESS=Saminapark Frastanz Hauptmann-Frick-Straße 2a Frastanz Vorarlberg 6820 Austria;X-APPLE-RADIUS=500;X-TITLE=Hauptmann-Frick-Straße 2a:geo:9.631149,47.2169008
END:VEVENT
END:VCALENDAR