BEGIN:VCALENDAR
VERSION:2.0
PRODID:-//femvents.at - ECPv6.15.18//NONSGML v1.0//EN
CALSCALE:GREGORIAN
METHOD:PUBLISH
X-ORIGINAL-URL:https://www.femvents.at
X-WR-CALDESC:Veranstaltungen für femvents.at
REFRESH-INTERVAL;VALUE=DURATION:PT1H
X-Robots-Tag:noindex
X-PUBLISHED-TTL:PT1H
BEGIN:VTIMEZONE
TZID:Europe/Vienna
BEGIN:DAYLIGHT
TZOFFSETFROM:+0100
TZOFFSETTO:+0200
TZNAME:CEST
DTSTART:20250330T010000
END:DAYLIGHT
BEGIN:STANDARD
TZOFFSETFROM:+0200
TZOFFSETTO:+0100
TZNAME:CET
DTSTART:20251026T010000
END:STANDARD
BEGIN:DAYLIGHT
TZOFFSETFROM:+0100
TZOFFSETTO:+0200
TZNAME:CEST
DTSTART:20260329T010000
END:DAYLIGHT
BEGIN:STANDARD
TZOFFSETFROM:+0200
TZOFFSETTO:+0100
TZNAME:CET
DTSTART:20261025T010000
END:STANDARD
BEGIN:DAYLIGHT
TZOFFSETFROM:+0100
TZOFFSETTO:+0200
TZNAME:CEST
DTSTART:20270328T010000
END:DAYLIGHT
BEGIN:STANDARD
TZOFFSETFROM:+0200
TZOFFSETTO:+0100
TZNAME:CET
DTSTART:20271031T010000
END:STANDARD
END:VTIMEZONE
BEGIN:VEVENT
DTSTART;TZID=Europe/Vienna:20260326T180000
DTEND;TZID=Europe/Vienna:20260326T230000
DTSTAMP:20260422T192355
CREATED:20260316T135817Z
LAST-MODIFIED:20260316T135817Z
UID:10000926-1774548000-1774566000@www.femvents.at
SUMMARY:HER*society
DESCRIPTION:impulse – connect – dance \nWir treffen uns immer am letzten Donnerstag des Monats um uns über frauenrelevante Themen zu informieren\, auszutauschen und eine verbindende Zeit miteinander zu verbringen. \n18:00 Beginn & Welcomedrink (inkludiert)\n18:30 Keynote über ein frauenspezifisches Thema\nab 19:30 Networking & Party mit Djs die uns den musikalischen Raum öffnen \nThemen: \n26.03. Sandra Kendl Business\, Sicherheit\, Nervensystem regulieren \n30.04. Künstlerin JAZ\, Kunstperformance & Workshop \n28.05. Melanie Graf\, Point of no Return. Grenzen setzen \nEINTRITT: 20\,00 Euro bei Anmeldung / 25\,00 Euro Abendkasse Im Preis enthalten ist bereits 1 Getränk und ein 5€ Gutschein für Speisen im Schatz Imhof Anmeldung über Instagram oder Facebook oder die Email her.society.vienna@gmail.com\, dann spart man sich 5€
URL:https://www.femvents.at/event/hersociety/
LOCATION:Schatz Imhof\, Universitätsstraße 11\, Wien\, Wien\, 1010
CATEGORIES:Frauenkreis,Wien
ATTACH;FMTTYPE=image/jpeg:https://www.femvents.at/wp-content/uploads/2026/03/Screenshot_20260316_141733_Drive.jpg
ORGANIZER;CN="Her*Society":MAILTO:Katelaboom@gmail.com
GEO:48.2141682;16.3566291
X-APPLE-STRUCTURED-LOCATION;VALUE=URI;X-ADDRESS=Schatz Imhof Universitätsstraße 11 Wien Wien 1010;X-APPLE-RADIUS=500;X-TITLE=Universitätsstraße 11:geo:16.3566291,48.2141682
END:VEVENT
BEGIN:VEVENT
DTSTART;TZID=Europe/Vienna:20260226T180000
DTEND;TZID=Europe/Vienna:20260226T230000
DTSTAMP:20260422T192355
CREATED:20260223T193807Z
LAST-MODIFIED:20260223T193807Z
UID:10000844-1772128800-1772146800@www.femvents.at
SUMMARY:Her* Society
DESCRIPTION:HER Society ist eine monatliche Veranstaltungsreihe für Frauen – eine bewusste Wortspiel-Anlehnung an High Society: Statt um Status geht es um die Sichtbarkeit von frauenrelevante Themen: gesellschaftlich\, persönlich\, beruflich oder körperlich. Jeder Termin lädt zum Zuhören\, Austauschen und Feiern ein. Ein sicherer Raum wird geschaffen\, in dem Frauen sich austauschen\, stärken und verbinden können. \nAblauf \n1) 18:30 – 19:30 Uhr Keynote/ interaktives Format\nAm 26.02. Mit Nicole Thurn über conscious change\nAm 26.02. Mit Malerin und Performance Künstlerin JAZ \n2.) Socializing & Dancing ab ca 19:45 Uhr \nWeitere Infos \nhttps://www.instagram.com/her_society_?igsh=bGFzaDk3cGt6anE5
URL:https://www.femvents.at/event/her-society/
LOCATION:Schatz Imhof\, Universitätsstraße 11\, Wien\, Wien\, 1010
CATEGORIES:Netzwerk-Treffen
ATTACH;FMTTYPE=image/jpeg:https://www.femvents.at/wp-content/uploads/2026/02/SIH_HERsociety_1080x1350px_3.jpg
ORGANIZER;CN="Her*Society":MAILTO:Katelaboom@gmail.com
GEO:48.2141682;16.3566291
X-APPLE-STRUCTURED-LOCATION;VALUE=URI;X-ADDRESS=Schatz Imhof Universitätsstraße 11 Wien Wien 1010;X-APPLE-RADIUS=500;X-TITLE=Universitätsstraße 11:geo:16.3566291,48.2141682
END:VEVENT
END:VCALENDAR