BEGIN:VCALENDAR
VERSION:2.0
PRODID:-//femvents.at - ECPv6.15.18//NONSGML v1.0//EN
CALSCALE:GREGORIAN
METHOD:PUBLISH
X-WR-CALNAME:femvents.at
X-ORIGINAL-URL:https://www.femvents.at
X-WR-CALDESC:Veranstaltungen für femvents.at
REFRESH-INTERVAL;VALUE=DURATION:PT1H
X-Robots-Tag:noindex
X-PUBLISHED-TTL:PT1H
BEGIN:VTIMEZONE
TZID:Europe/Vienna
BEGIN:DAYLIGHT
TZOFFSETFROM:+0100
TZOFFSETTO:+0200
TZNAME:CEST
DTSTART:20250330T010000
END:DAYLIGHT
BEGIN:STANDARD
TZOFFSETFROM:+0200
TZOFFSETTO:+0100
TZNAME:CET
DTSTART:20251026T010000
END:STANDARD
BEGIN:DAYLIGHT
TZOFFSETFROM:+0100
TZOFFSETTO:+0200
TZNAME:CEST
DTSTART:20260329T010000
END:DAYLIGHT
BEGIN:STANDARD
TZOFFSETFROM:+0200
TZOFFSETTO:+0100
TZNAME:CET
DTSTART:20261025T010000
END:STANDARD
BEGIN:DAYLIGHT
TZOFFSETFROM:+0100
TZOFFSETTO:+0200
TZNAME:CEST
DTSTART:20270328T010000
END:DAYLIGHT
BEGIN:STANDARD
TZOFFSETFROM:+0200
TZOFFSETTO:+0100
TZNAME:CET
DTSTART:20271031T010000
END:STANDARD
END:VTIMEZONE
BEGIN:VEVENT
DTSTART;TZID=Europe/Vienna:20260530T093000
DTEND;TZID=Europe/Vienna:20260530T180000
DTSTAMP:20260422T191324
CREATED:20260203T181312Z
LAST-MODIFIED:20260203T181312Z
UID:10000760-1780133400-1780164000@www.femvents.at
SUMMARY:AUSBILDUNG - Craniosacrale Rhythmusarbeit
DESCRIPTION:Gemeinsam tauchen wir 6 Monate lang ein\, in die Welt von craniosacraler Körperarbeit. Dabei erkunden wir neben Anatomie und Physiologie\, vielen Grifftechniken\, der Cranio-Geschichte und verschiedenen Rhythmen\, auch Dich und dein Sein als Cranio-Anwenderin! \n„Erfüllung im Tun – Ankommen im Sein“ \nTermine: Start – 30. Mai 2026 | 6 Wochenendmodule \n30./31. Mai\n6./7. Juni\n4./5. und 18./19. Juli\n5./6. und  (FR/SA!) 11./12. September \nOrt: Schnaufpause Straßwalchen (Salzburgerstraße 15a\, 5204 Straßwalchen) \nAlle weiteren Infos findest du unter www.petra-nagel.at – bei Fragen melde dich gerne bei mir! \nVon Herzen\, Petra
URL:https://www.femvents.at/event/ausbildung-craniosacrale-rhythmusarbeit/
LOCATION:Schnnaufpause Straßwalchen\, Salzburgerstraße 15a\, Straßwalchen\, Salzburg\, 5204\, Austria
CATEGORIES:Coaching,Salzburg
ATTACH;FMTTYPE=image/jpeg:https://www.femvents.at/wp-content/uploads/2026/02/petra_nagel_ausbildung_instagram_post_1080x1350px.jpg
ORGANIZER;CN="Petra Nagel":MAILTO:cranio@petra-nagel.at
GEO:47.9773347;13.2541305
X-APPLE-STRUCTURED-LOCATION;VALUE=URI;X-ADDRESS=Schnnaufpause Straßwalchen Salzburgerstraße 15a Straßwalchen Salzburg 5204 Austria;X-APPLE-RADIUS=500;X-TITLE=Salzburgerstraße 15a:geo:13.2541305,47.9773347
END:VEVENT
END:VCALENDAR