BEGIN:VCALENDAR
VERSION:2.0
PRODID:-//femvents.at - ECPv6.15.18//NONSGML v1.0//EN
CALSCALE:GREGORIAN
METHOD:PUBLISH
X-WR-CALNAME:femvents.at
X-ORIGINAL-URL:https://www.femvents.at
X-WR-CALDESC:Veranstaltungen für femvents.at
REFRESH-INTERVAL;VALUE=DURATION:PT1H
X-Robots-Tag:noindex
X-PUBLISHED-TTL:PT1H
BEGIN:VTIMEZONE
TZID:Europe/Vienna
BEGIN:DAYLIGHT
TZOFFSETFROM:+0100
TZOFFSETTO:+0200
TZNAME:CEST
DTSTART:20240331T010000
END:DAYLIGHT
BEGIN:STANDARD
TZOFFSETFROM:+0200
TZOFFSETTO:+0100
TZNAME:CET
DTSTART:20241027T010000
END:STANDARD
BEGIN:DAYLIGHT
TZOFFSETFROM:+0100
TZOFFSETTO:+0200
TZNAME:CEST
DTSTART:20250330T010000
END:DAYLIGHT
BEGIN:STANDARD
TZOFFSETFROM:+0200
TZOFFSETTO:+0100
TZNAME:CET
DTSTART:20251026T010000
END:STANDARD
BEGIN:DAYLIGHT
TZOFFSETFROM:+0100
TZOFFSETTO:+0200
TZNAME:CEST
DTSTART:20260329T010000
END:DAYLIGHT
BEGIN:STANDARD
TZOFFSETFROM:+0200
TZOFFSETTO:+0100
TZNAME:CET
DTSTART:20261025T010000
END:STANDARD
END:VTIMEZONE
BEGIN:VEVENT
DTSTART;TZID=Europe/Vienna:20251121T180000
DTEND;TZID=Europe/Vienna:20251121T203000
DTSTAMP:20260423T021248
CREATED:20251003T171630Z
LAST-MODIFIED:20251114T085338Z
UID:10000351-1763748000-1763757000@www.femvents.at
SUMMARY:1. Frauen-Stammtisch
DESCRIPTION:✨ Einladung zum 1. Frauen-Stammtisch ✨\nWir starten gemeinsam in eine besondere Runde nur für Frauen – mit spannenden Themen\, Austausch und viel guter Energie! 💕 \nUnser erstes Treffen widmet sich einem Thema\, das uns alle betrifft:\n„Stressfrei durch die Weihnachtszeit“ 🎄💫 \n📅 Freitag\, 21.11.2025\n🕕 18:00 Uhr\n📍 s’Biergartl\, Erzherzog-Johann-Straße 84\, 8054 Graz \n👉 Die Teilnehmerinnenzahl ist begrenzt – sichere dir jetzt deinen Platz!\n➡️ Anmeldung über den Link: https://form.jotform.com/252481703645054 \nWir freuen uns auf dich – für einen Abend voller Inspiration\, Leichtigkeit und echter Frauenpower! 💪💖 \nVon Frauen\, für Frauen! 🌸
URL:https://www.femvents.at/event/1-frauen-stammtisch/
LOCATION:seiersberg s’Biergartl\, Erzherzog-Johann-Straße 84\, Seiersberg\, Steiermark\, 8054\, Austria
CATEGORIES:Frauenkreis
ATTACH;FMTTYPE=image/png:https://www.femvents.at/wp-content/uploads/2025/10/Dein-Abschnittstext-Logo.png
GEO:47.0090896;15.3952505
X-APPLE-STRUCTURED-LOCATION;VALUE=URI;X-ADDRESS=seiersberg s’Biergartl Erzherzog-Johann-Straße 84 Seiersberg Steiermark 8054 Austria;X-APPLE-RADIUS=500;X-TITLE=Erzherzog-Johann-Straße 84:geo:15.3952505,47.0090896
END:VEVENT
END:VCALENDAR