BEGIN:VCALENDAR
VERSION:2.0
PRODID:-//femvents.at - ECPv6.15.18//NONSGML v1.0//EN
CALSCALE:GREGORIAN
METHOD:PUBLISH
X-WR-CALNAME:femvents.at
X-ORIGINAL-URL:https://www.femvents.at
X-WR-CALDESC:Veranstaltungen für femvents.at
REFRESH-INTERVAL;VALUE=DURATION:PT1H
X-Robots-Tag:noindex
X-PUBLISHED-TTL:PT1H
BEGIN:VTIMEZONE
TZID:Europe/Vienna
BEGIN:DAYLIGHT
TZOFFSETFROM:+0100
TZOFFSETTO:+0200
TZNAME:CEST
DTSTART:20240331T010000
END:DAYLIGHT
BEGIN:STANDARD
TZOFFSETFROM:+0200
TZOFFSETTO:+0100
TZNAME:CET
DTSTART:20241027T010000
END:STANDARD
BEGIN:DAYLIGHT
TZOFFSETFROM:+0100
TZOFFSETTO:+0200
TZNAME:CEST
DTSTART:20250330T010000
END:DAYLIGHT
BEGIN:STANDARD
TZOFFSETFROM:+0200
TZOFFSETTO:+0100
TZNAME:CET
DTSTART:20251026T010000
END:STANDARD
BEGIN:DAYLIGHT
TZOFFSETFROM:+0100
TZOFFSETTO:+0200
TZNAME:CEST
DTSTART:20260329T010000
END:DAYLIGHT
BEGIN:STANDARD
TZOFFSETFROM:+0200
TZOFFSETTO:+0100
TZNAME:CET
DTSTART:20261025T010000
END:STANDARD
END:VTIMEZONE
BEGIN:VEVENT
DTSTART;TZID=Europe/Vienna:20251115T130000
DTEND;TZID=Europe/Vienna:20251115T160000
DTSTAMP:20260422T191630
CREATED:20251031T124017Z
LAST-MODIFIED:20251031T124017Z
UID:10000467-1763211600-1763222400@www.femvents.at
SUMMARY:Gut vorbereitet zur Ärzt*in gehen
DESCRIPTION:Aktives Üben und Gestalten deines Ärzt*innengesprächs: Thema Endometriose \nVortragende: Veronika Gmeindl\, Theaterpädagogin und Marlene Pretis-Schader\, Frauengesundheitszentrum \nIn Kooperation mit der Selbsthilfegruppe Endometriose – Endoheroes \nEva Anderhuber-Tutsch\, endometriose.graz@gmail.com
URL:https://www.femvents.at/event/gut-vorbereitet-zur-aerztin-gehen/
LOCATION:Selbsthilfe Kontaktstelle\, Lauzilgasse\, Graz\, Austria
CATEGORIES:Frauenkreis,Steiermark
ATTACH;FMTTYPE=image/png:https://www.femvents.at/wp-content/uploads/2025/06/femvents_eventbild.png
ORGANIZER;CN="Frauengesundheitszentrum":MAILTO:frauen.gesundheit@fgz.co.at
GEO:47.0459844;15.4326071
X-APPLE-STRUCTURED-LOCATION;VALUE=URI;X-ADDRESS=Selbsthilfe Kontaktstelle Lauzilgasse Graz Austria;X-APPLE-RADIUS=500;X-TITLE=Lauzilgasse:geo:15.4326071,47.0459844
END:VEVENT
END:VCALENDAR