BEGIN:VCALENDAR
VERSION:2.0
PRODID:-//femvents.at - ECPv6.15.18//NONSGML v1.0//EN
CALSCALE:GREGORIAN
METHOD:PUBLISH
X-WR-CALNAME:femvents.at
X-ORIGINAL-URL:https://www.femvents.at
X-WR-CALDESC:Veranstaltungen für femvents.at
REFRESH-INTERVAL;VALUE=DURATION:PT1H
X-Robots-Tag:noindex
X-PUBLISHED-TTL:PT1H
BEGIN:VTIMEZONE
TZID:Europe/Vienna
BEGIN:DAYLIGHT
TZOFFSETFROM:+0100
TZOFFSETTO:+0200
TZNAME:CEST
DTSTART:20250330T010000
END:DAYLIGHT
BEGIN:STANDARD
TZOFFSETFROM:+0200
TZOFFSETTO:+0100
TZNAME:CET
DTSTART:20251026T010000
END:STANDARD
BEGIN:DAYLIGHT
TZOFFSETFROM:+0100
TZOFFSETTO:+0200
TZNAME:CEST
DTSTART:20260329T010000
END:DAYLIGHT
BEGIN:STANDARD
TZOFFSETFROM:+0200
TZOFFSETTO:+0100
TZNAME:CET
DTSTART:20261025T010000
END:STANDARD
BEGIN:DAYLIGHT
TZOFFSETFROM:+0100
TZOFFSETTO:+0200
TZNAME:CEST
DTSTART:20270328T010000
END:DAYLIGHT
BEGIN:STANDARD
TZOFFSETFROM:+0200
TZOFFSETTO:+0100
TZNAME:CET
DTSTART:20271031T010000
END:STANDARD
END:VTIMEZONE
BEGIN:VEVENT
DTSTART;TZID=Europe/Vienna:20260228T130000
DTEND;TZID=Europe/Vienna:20260228T160000
DTSTAMP:20260422T211007
CREATED:20260202T170703Z
LAST-MODIFIED:20260202T170703Z
UID:10000743-1772283600-1772294400@www.femvents.at
SUMMARY:Gut vorbereitet zur Ärzt*in gehen
DESCRIPTION:Endoheroes Steiermark veranstaltet in Kooperation mit dem Frauengesundheitszentrum Graz einen Workshop zum Thema „Gut vorbereitet zur Ärzt*in gehen – Aktives Üben und Gestalten deines Ärzt*innengesprächs“. Begeleitet wird dieses Event von Veronika Gmeindl (Theaterpädagogin) sowie von Marlene Pretis-Schader und Ulla Sladek (Frauengesundheitszentrum). \nFür Informationen und Anmeldung steht Eva Anderhuber-Tutsch per Mail zur Verfügung (endometriose.graz@gmail.com)
URL:https://www.femvents.at/event/gut-vorbereitet-zur-aerztin-gehen-2/
LOCATION:Selbsthilfekontaktstelle\, Lauzilgasse 25\, Graz\, Steiermark\, 8020\, Austria
CATEGORIES:Steiermark,Workshop
ATTACH;FMTTYPE=image/jpeg:https://www.femvents.at/wp-content/uploads/2026/02/WhatsApp-Image-2026-02-02-at-17.20.45.jpeg
GEO:47.0454191;15.4326615
X-APPLE-STRUCTURED-LOCATION;VALUE=URI;X-ADDRESS=Selbsthilfekontaktstelle Lauzilgasse 25 Graz Steiermark 8020 Austria;X-APPLE-RADIUS=500;X-TITLE=Lauzilgasse 25:geo:15.4326615,47.0454191
END:VEVENT
END:VCALENDAR