BEGIN:VCALENDAR
VERSION:2.0
PRODID:-//femvents.at - ECPv6.15.18//NONSGML v1.0//EN
CALSCALE:GREGORIAN
METHOD:PUBLISH
X-WR-CALNAME:femvents.at
X-ORIGINAL-URL:https://www.femvents.at
X-WR-CALDESC:Veranstaltungen für femvents.at
REFRESH-INTERVAL;VALUE=DURATION:PT1H
X-Robots-Tag:noindex
X-PUBLISHED-TTL:PT1H
BEGIN:VTIMEZONE
TZID:Europe/Vienna
BEGIN:DAYLIGHT
TZOFFSETFROM:+0100
TZOFFSETTO:+0200
TZNAME:CEST
DTSTART:20240331T010000
END:DAYLIGHT
BEGIN:STANDARD
TZOFFSETFROM:+0200
TZOFFSETTO:+0100
TZNAME:CET
DTSTART:20241027T010000
END:STANDARD
BEGIN:DAYLIGHT
TZOFFSETFROM:+0100
TZOFFSETTO:+0200
TZNAME:CEST
DTSTART:20250330T010000
END:DAYLIGHT
BEGIN:STANDARD
TZOFFSETFROM:+0200
TZOFFSETTO:+0100
TZNAME:CET
DTSTART:20251026T010000
END:STANDARD
BEGIN:DAYLIGHT
TZOFFSETFROM:+0100
TZOFFSETTO:+0200
TZNAME:CEST
DTSTART:20260329T010000
END:DAYLIGHT
BEGIN:STANDARD
TZOFFSETFROM:+0200
TZOFFSETTO:+0100
TZNAME:CET
DTSTART:20261025T010000
END:STANDARD
BEGIN:DAYLIGHT
TZOFFSETFROM:+0100
TZOFFSETTO:+0200
TZNAME:CEST
DTSTART:20270328T010000
END:DAYLIGHT
BEGIN:STANDARD
TZOFFSETFROM:+0200
TZOFFSETTO:+0100
TZNAME:CET
DTSTART:20271031T010000
END:STANDARD
END:VTIMEZONE
BEGIN:VEVENT
DTSTART;TZID=Europe/Vienna:20260422T173000
DTEND;TZID=Europe/Vienna:20260422T190000
DTSTAMP:20260422T210725
CREATED:20260415T091453Z
LAST-MODIFIED:20260422T102457Z
UID:10001108-1776879000-1776884400@www.femvents.at
SUMMARY:Stmk./Graz LLL – Treffpunkt Impuls Talk „Money Mindset“  mit  LLL-Botschafterin Sarah Hofbauer
DESCRIPTION:Ein inspirierender Impuls-Talk rund um das Thema Geld und Mindset: In diesem Vortrag erfahren Frauen\, wie sie finanzielle Zusammenhänge besser verstehen\, sinnvolle Anlagestrategien nutzen und Schritt für Schritt Vermögen aufbauen können. Ziel ist es\, finanzielle Sicherheit zu schaffen und die eigene Zukunft selbst bestimmt zu gestalten. \nAnmeldung direkt bei den Veranstalterin\nSarah Hofbauer\ninfo@srah-hofbauer.com \nEine Veranstaltung in Netzwerkverbundenheit mit dem Verein\n„LEBEN\, LIEBEN\, LACHEN – Prävention mit Herz\, Verstand und Freude!“\nDie LLL – Treffpunkt  DER IMPULS TALK  zeigen\, wie primäre Prävention als Schlüssel zu einem erfüllten Leben wirkt.\nOb körperlich\, emotional\, sozial oder finanziell – wer frühzeitig vorsorgt\, schafft Raum für Lebensfreude\, Leichtigkeit und Selbstbestimmung.\nDie Reihe soll  inspirieren\, aktiv Schritte zu gehen\, die Gesundheit\, Sicherheit und Wohlbefinden langfristig fördern. \nSarah Hofbauer
URL:https://www.femvents.at/event/stmk-graz-lll-treffpunkt-impuls-talk-money-mindset-mit-lll-botschafterin-sarah-hofbauer/
LOCATION:Spacelend Graz\, Neubaugasse 24\, 8020\, Steiermark\, 8020
CATEGORIES:Burgenland,LLL,LLL-PräventionsTreff
ATTACH;FMTTYPE=image/jpeg:https://www.femvents.at/wp-content/uploads/2026/03/Logo-Butah5.jpg
ORGANIZER;CN="Sarah Hofbauer":MAILTO:info@sarah-hofbauer.com
GEO:47.0773909;15.4310574
X-APPLE-STRUCTURED-LOCATION;VALUE=URI;X-ADDRESS=Spacelend Graz Neubaugasse 24 8020 Steiermark 8020;X-APPLE-RADIUS=500;X-TITLE=Neubaugasse 24:geo:15.4310574,47.0773909
END:VEVENT
BEGIN:VEVENT
DTSTART;TZID=Europe/Vienna:20260326T173000
DTEND;TZID=Europe/Vienna:20260326T220000
DTSTAMP:20260422T210725
CREATED:20260218T125716Z
LAST-MODIFIED:20260218T125716Z
UID:10000832-1774546200-1774562400@www.femvents.at
SUMMARY:TheElleCircle - Spring Connection
DESCRIPTION:TheElleCircle Spring Connection ist ein Netzwerkabend für selbstständige Frauen\, Gründerinnen und Visionärinnen in Graz. \nIm Mittelpunkt stehen echte Verbindungen\, Mut zur Sichtbarkeit und der Schritt raus aus der Komfortzone – rein ins volle Potenzial. Dich erwarten inspirierende Keynotes\, interaktives Netzwerken ohne Smalltalk-Zwang sowie ein entspannter Abend mit Buffet und guten Gesprächen. \nEin Event für Frauen\, die nicht nur Kontakte sammeln\, sondern Verbindung erleben wollen. \n📍 Spacelend Graz🗓 26. März 2026 · Einlass ab 17:30 Uhr
URL:https://www.femvents.at/event/theellecircle-spring-connection/
LOCATION:Spacelend Graz\, Neubaugasse 24\, 8020\, Steiermark\, 8020
CATEGORIES:Netzwerk-Treffen,Steiermark
ATTACH;FMTTYPE=image/jpeg:https://www.femvents.at/wp-content/uploads/2026/02/TheElleCircle-Winter-Connection-Instagram-Posting-3.jpg
ORGANIZER;CN="The ElleCircle - Sarah Kerstin Breuer &amp%3B Nicole Grabenwarter":MAILTO:hey@ellecircle.net
GEO:47.0773909;15.4310574
X-APPLE-STRUCTURED-LOCATION;VALUE=URI;X-ADDRESS=Spacelend Graz Neubaugasse 24 8020 Steiermark 8020;X-APPLE-RADIUS=500;X-TITLE=Neubaugasse 24:geo:15.4310574,47.0773909
END:VEVENT
BEGIN:VEVENT
DTSTART;TZID=Europe/Vienna:20251204T173000
DTEND;TZID=Europe/Vienna:20251204T223000
DTSTAMP:20260422T210725
CREATED:20251106T111356Z
LAST-MODIFIED:20251106T111356Z
UID:10000477-1764869400-1764887400@www.femvents.at
SUMMARY:DIE WEIHNACHTSFEIER FÜR SELBSTSTÄNDIGE FRAUEN IN GRAZ
DESCRIPTION:✨ TheElleCircle Winter Connection\nWeil auch Selbstständige eine Weihnachtsfeier verdienen. \nAm 4. Dezember treffen sich in Graz Unternehmerinnen\, Gründerinnen und Kreative zur TheElleCircle Winter Connection – ein Abend\, an dem echtes Netzwerken\, inspirierende Keynotes und ehrliche Begegnungen im Mittelpunkt stehen. \nBei leckeren Brötchen\, guten Gläser Wein & Co. und ganz viel Soulful Energy feiern wir gemeinsam das\, was uns verbindet: Unternehmertum\, Mut und Sisterhood. 💛 \nTriff neue Unternehmerinnen\, tausch dich aus und stoß an – und genieße einen Abend voller Wärme\, Inspiration und Leichtigkeit. \n📍 Spacelend Graz🎟️ Ticket: € 39 (inkl. Getränke & Buffet)💫 Early Bird: € 35 mit dem Code EARLYBIRD4 bis 12.11.2025👉 www.ellecircle.net📩 Kontakt: hey@ellecircle.net
URL:https://www.femvents.at/event/die-weihnachtsfeier-fuer-selbststaendige-frauen-in-graz/
LOCATION:Spacelend Graz\, Neubaugasse 24\, 8020\, Steiermark\, 8020
CATEGORIES:Netzwerk-Treffen,Steiermark
ATTACH;FMTTYPE=image/jpeg:https://www.femvents.at/wp-content/uploads/2025/11/1.jpg
ORGANIZER;CN="The ElleCircle - Sarah Kerstin Breuer &amp%3B Nicole Grabenwarter":MAILTO:hey@ellecircle.net
GEO:47.0773909;15.4310574
X-APPLE-STRUCTURED-LOCATION;VALUE=URI;X-ADDRESS=Spacelend Graz Neubaugasse 24 8020 Steiermark 8020;X-APPLE-RADIUS=500;X-TITLE=Neubaugasse 24:geo:15.4310574,47.0773909
END:VEVENT
END:VCALENDAR