BEGIN:VCALENDAR
VERSION:2.0
PRODID:-//femvents.at - ECPv6.15.18//NONSGML v1.0//EN
CALSCALE:GREGORIAN
METHOD:PUBLISH
X-WR-CALNAME:femvents.at
X-ORIGINAL-URL:https://www.femvents.at
X-WR-CALDESC:Veranstaltungen für femvents.at
REFRESH-INTERVAL;VALUE=DURATION:PT1H
X-Robots-Tag:noindex
X-PUBLISHED-TTL:PT1H
BEGIN:VTIMEZONE
TZID:Europe/Vienna
BEGIN:DAYLIGHT
TZOFFSETFROM:+0100
TZOFFSETTO:+0200
TZNAME:CEST
DTSTART:20250330T010000
END:DAYLIGHT
BEGIN:STANDARD
TZOFFSETFROM:+0200
TZOFFSETTO:+0100
TZNAME:CET
DTSTART:20251026T010000
END:STANDARD
BEGIN:DAYLIGHT
TZOFFSETFROM:+0100
TZOFFSETTO:+0200
TZNAME:CEST
DTSTART:20260329T010000
END:DAYLIGHT
BEGIN:STANDARD
TZOFFSETFROM:+0200
TZOFFSETTO:+0100
TZNAME:CET
DTSTART:20261025T010000
END:STANDARD
BEGIN:DAYLIGHT
TZOFFSETFROM:+0100
TZOFFSETTO:+0200
TZNAME:CEST
DTSTART:20270328T010000
END:DAYLIGHT
BEGIN:STANDARD
TZOFFSETFROM:+0200
TZOFFSETTO:+0100
TZNAME:CET
DTSTART:20271031T010000
END:STANDARD
END:VTIMEZONE
BEGIN:VEVENT
DTSTART;TZID=Europe/Vienna:20260305T190000
DTEND;TZID=Europe/Vienna:20260305T203000
DTSTAMP:20260423T021752
CREATED:20260116T112402Z
LAST-MODIFIED:20260126T081158Z
UID:10000708-1772737200-1772742600@www.femvents.at
SUMMARY:Weltfrauentag im Kabarett „Es fühlte sich so gleich an!“ Kostenfreie Veranstaltung
DESCRIPTION:Donnerstag\, 5. März 19.00 Uhr\nEine kabarettistische Conference anlässlich des Weltfrauentages:\nProf. Lan Weiser und die Künstlerin Lea Karacha\, gespielt von Kate Schoch und Anja Uhlir\, treffen sich im Foyer eines Radiosenders und warten auf ihre Interviews zum Thema Gleichberechtigung.\nWir laden Sie herzlich zum Kabarett in das Bewohnerservice.\nKeine Anmeldung erforderlich\, kostenfreie Veranstaltung\nBewohnerservice Lehen & Taxham \nStadtteile ohne Partnerschaft Stop Lehen\nStrubergasse 27A\n5020 Salzburg\nInfotelefon: 0662 – 428579\nMail: BWS.Lehen-Taxham@stadt-salzburg.at
URL:https://www.femvents.at/event/weltfrauentag-im-kabarett-es-fuehlte-sich-so-gleich-an-kostenfreie-veranstaltung/
LOCATION:Srubergasse 27 A \, 5020 Salzburg\, Strubergasse 27A\, Bewohnerservice Lehen\, Salzburg\, 5020\, Austria
CATEGORIES:Salzburg
ATTACH;FMTTYPE=image/png:https://www.femvents.at/wp-content/uploads/2026/01/Es-fuehlt-sich-PNG.png
GEO:47.8084602;13.0303412
X-APPLE-STRUCTURED-LOCATION;VALUE=URI;X-ADDRESS=Srubergasse 27 A  5020 Salzburg Strubergasse 27A Bewohnerservice Lehen Salzburg 5020 Austria;X-APPLE-RADIUS=500;X-TITLE=Strubergasse 27A:geo:13.0303412,47.8084602
END:VEVENT
END:VCALENDAR