BEGIN:VCALENDAR
VERSION:2.0
PRODID:-//femvents.at - ECPv6.15.18//NONSGML v1.0//EN
CALSCALE:GREGORIAN
METHOD:PUBLISH
X-WR-CALNAME:femvents.at
X-ORIGINAL-URL:https://www.femvents.at
X-WR-CALDESC:Veranstaltungen für femvents.at
REFRESH-INTERVAL;VALUE=DURATION:PT1H
X-Robots-Tag:noindex
X-PUBLISHED-TTL:PT1H
BEGIN:VTIMEZONE
TZID:Europe/Vienna
BEGIN:DAYLIGHT
TZOFFSETFROM:+0100
TZOFFSETTO:+0200
TZNAME:CEST
DTSTART:20250330T010000
END:DAYLIGHT
BEGIN:STANDARD
TZOFFSETFROM:+0200
TZOFFSETTO:+0100
TZNAME:CET
DTSTART:20251026T010000
END:STANDARD
BEGIN:DAYLIGHT
TZOFFSETFROM:+0100
TZOFFSETTO:+0200
TZNAME:CEST
DTSTART:20260329T010000
END:DAYLIGHT
BEGIN:STANDARD
TZOFFSETFROM:+0200
TZOFFSETTO:+0100
TZNAME:CET
DTSTART:20261025T010000
END:STANDARD
BEGIN:DAYLIGHT
TZOFFSETFROM:+0100
TZOFFSETTO:+0200
TZNAME:CEST
DTSTART:20270328T010000
END:DAYLIGHT
BEGIN:STANDARD
TZOFFSETFROM:+0200
TZOFFSETTO:+0100
TZNAME:CET
DTSTART:20271031T010000
END:STANDARD
END:VTIMEZONE
BEGIN:VEVENT
DTSTART;TZID=Europe/Vienna:20260228T090000
DTEND;TZID=Europe/Vienna:20260228T180000
DTSTAMP:20260422T205951
CREATED:20251203T072101Z
LAST-MODIFIED:20251203T072101Z
UID:10000555-1772269200-1772301600@www.femvents.at
SUMMARY:Visible & Vibrant
DESCRIPTION:Visible & Vibrant – Dein VIP Workshop Day für eine Marke\, die bleibt. \nEin exklusiver Tagesworkshop für selbstständige Frauen\, die Klarheit\, Sichtbarkeit und einen Auftritt wollen\, der ihre Persönlichkeit widerspiegelt. \nIn einer kleinen Runde (max. 6 Teilnehmerinnen) begleiten dich Unternehmensberaterin Regina und Brand Designerin & Fotografin Lisa durch einen Tag voller Strategie\, Reflexion und visueller Umsetzung\, inklusive professionellem Fotoshooting\, Positionierung und Elevator Pitch Training. \nDatum: 28. Februar 2026Ort: Studio Click Loft\, in Trimmelkam\, Exklusives Fotostudio in Oberösterreich (ca. 40 Autominuten von Salzburg entfernt)Anmeldung: nur via Bewerbung
URL:https://www.femvents.at/event/visible-vibrant/
LOCATION:Studio Click Loft\, Austria
CATEGORIES:Oberösterreich,Workshop
ATTACH;FMTTYPE=image/png:https://www.femvents.at/wp-content/uploads/2025/12/visiblevibrantZeichenflaeche-5.png
ORGANIZER;CN="Lisa Breckner &amp%3B Regina Meier":MAILTO:regina.meier@einzigwertig.at
GEO:47.516231;14.550072
END:VEVENT
END:VCALENDAR