BEGIN:VCALENDAR
VERSION:2.0
PRODID:-//femvents.at - ECPv6.15.18//NONSGML v1.0//EN
CALSCALE:GREGORIAN
METHOD:PUBLISH
X-WR-CALNAME:femvents.at
X-ORIGINAL-URL:https://www.femvents.at
X-WR-CALDESC:Veranstaltungen für femvents.at
REFRESH-INTERVAL;VALUE=DURATION:PT1H
X-Robots-Tag:noindex
X-PUBLISHED-TTL:PT1H
BEGIN:VTIMEZONE
TZID:Europe/Vienna
BEGIN:DAYLIGHT
TZOFFSETFROM:+0100
TZOFFSETTO:+0200
TZNAME:CEST
DTSTART:20240331T010000
END:DAYLIGHT
BEGIN:STANDARD
TZOFFSETFROM:+0200
TZOFFSETTO:+0100
TZNAME:CET
DTSTART:20241027T010000
END:STANDARD
BEGIN:DAYLIGHT
TZOFFSETFROM:+0100
TZOFFSETTO:+0200
TZNAME:CEST
DTSTART:20250330T010000
END:DAYLIGHT
BEGIN:STANDARD
TZOFFSETFROM:+0200
TZOFFSETTO:+0100
TZNAME:CET
DTSTART:20251026T010000
END:STANDARD
BEGIN:DAYLIGHT
TZOFFSETFROM:+0100
TZOFFSETTO:+0200
TZNAME:CEST
DTSTART:20260329T010000
END:DAYLIGHT
BEGIN:STANDARD
TZOFFSETFROM:+0200
TZOFFSETTO:+0100
TZNAME:CET
DTSTART:20261025T010000
END:STANDARD
BEGIN:DAYLIGHT
TZOFFSETFROM:+0100
TZOFFSETTO:+0200
TZNAME:CEST
DTSTART:20270328T010000
END:DAYLIGHT
BEGIN:STANDARD
TZOFFSETFROM:+0200
TZOFFSETTO:+0100
TZNAME:CET
DTSTART:20271031T010000
END:STANDARD
END:VTIMEZONE
BEGIN:VEVENT
DTSTART;TZID=Europe/Vienna:20260114T173000
DTEND;TZID=Europe/Vienna:20260114T193000
DTSTAMP:20260422T192326
CREATED:20251217T155046Z
LAST-MODIFIED:20251217T155235Z
UID:10000590-1768411800-1768419000@www.femvents.at
SUMMARY:Stocks & Spritzers: Build Wealth in 2026 Without Sacrifice
DESCRIPTION:Join us for Stocks & Spritzer where I’ll show you how to build wealth in 2026 without giving up your daily lattes or brunch with the girls! \nBuild Wealth in 2026 Without Sacrifice is the ultimate workshop for women looking to secure their financial future with an aperitif in hand! \nYour ticket includes: \n\nA 1-hour wealthy woman workshop with money coach and investing mentor Sophie from the Financial Feminist\nA complimentary prosecco upon entry\nNetworking over drinks with like-minded women\n\nAbout the Workshop \nWhat you’ll learn: \n\nThe top 3 secret techniques that wealthy people use to create a budget that does not rely on frugality (keep your daily lattes!).\nHow to set achievable financial goals for the rest of 2026 that actually excite you.\nThe #1 budgeting secret behind accelerating your savings which has helped my clients save\n€ 20k in five months .\nHow to grow your income this year and start investing with confidence!\n\nAbout the Workshop \nWhat you’ll learn: \n\nThe top 3 secret techniques that wealthy people use to create a budget that does not rely on frugality (keep your daily lattes!).\nHow to set achievable financial goals for the rest of 2026 that actually excite you.\nThe #1 budgeting secret behind accelerating your savings which has helped my clients save\n€ 20k in five months .\nHow to grow your income this year and start investing with confidence!\nGuaranteed you will walk away feeling complete clarity for every month of 2026.\n\nWho is this workshop for: \nThis workshop is for ambitious women who are ready to start building independent wealth and freedom. \nMaybe you: \n\nHave tried making financial New Year resolutions\, but by the time March comes around\, you’ve forgotten about them.\nEven the word ‚budgeting‘ makes you yawn \, and you’ve never been able to find one that suits your lifestyle anyway.\nYou already have some savings\, but they’re not growing as fast as they should be and sometimes you dip into them throughout the month.\nYou have big dreams of owning a home (or multiple ••)\, traveling in luxury\, and earning 6 figures with passive income\, but these feel like a pipe dream at the moment\nYou know that you earn a good income\, but you also know that you’re not making it work to your full potential.\nYou just need someone to tell you EXACTLY HOW to build wealth with what you have and see results SOON so you don’t get discouraged.\nWhatever stage you’re at\, everyone is welcome!Start 2026 off with intention and clarity.\n\nGuaranteed\, this workshop will be the best investment you’ve made in yourself and your finances this year and the years after!) \nSophie will also be sharing how you can get involved with Vienna’s first-ever Money Coaching Program for Women! With special discounts for those who attend \nPlus\, enjoy a cocktail or two\, and ask Sophie anything about money. \nMake this your best investment yet! \nNOTE: This event is only for women.*
URL:https://www.femvents.at/event/stocks-spritzers-build-wealth-in-2026-without-sacrifice/
LOCATION:The Social Hub\, Nordbahnstraße 47\, Wien\, Wien\, 1020\, Austria
CATEGORIES:After Work,Frauenkreis,Netzwerk-Treffen,Wien,Workshop
ATTACH;FMTTYPE=image/png:https://www.femvents.at/wp-content/uploads/2025/12/PROMO-MATERIAL-Instagram-Post-45-1-1.png
ORGANIZER;CN="Sophie Nicolas":MAILTO:Contact@financialfeministcoach.com
GEO:48.2227356;16.3900024
X-APPLE-STRUCTURED-LOCATION;VALUE=URI;X-ADDRESS=The Social Hub Nordbahnstraße 47 Wien Wien 1020 Austria;X-APPLE-RADIUS=500;X-TITLE=Nordbahnstraße 47:geo:16.3900024,48.2227356
END:VEVENT
BEGIN:VEVENT
DTSTART;TZID=Europe/Vienna:20260113T180000
DTEND;TZID=Europe/Vienna:20260113T200000
DTSTAMP:20260422T192326
CREATED:20251222T144013Z
LAST-MODIFIED:20251222T144013Z
UID:10000592-1768327200-1768334400@www.femvents.at
SUMMARY:Austauschcafè EndoPower.Wien - Selbsthilfegruppe für Endometriosebetroffene
DESCRIPTION:Unser Ziel – Ablauf eines Treffens\n\nUnsere SHG möchte einen offenen und lockeren Austausch bieten und verhindern\, dass sich Endometriose Betroffene alleine fühlen.\n\nUnser Austauschcafé findet regelmäßig statt\, in dessen Rahmen die Teilnehmenden ca zwei Stunden Zeit haben ihre Erfahrungen und Sorgen zu teilen und sich gegenseitig Tipps zu geben (einander zu empowern).\n\nWir organisieren derzeit keine Vorträge oder geben Themen vor – diese ergeben sich in der (Gruppen-) Diskussion
URL:https://www.femvents.at/event/austauschcafe-endopower-wien-selbsthilfegruppe-fuer-endometriosebetroffene/
LOCATION:The Social Hub\, Nordbahnstraße 47\, Wien\, Wien\, 1020\, Austria
CATEGORIES:After Work,Frauenkreis,Wien
ATTACH;FMTTYPE=image/png:https://www.femvents.at/wp-content/uploads/2025/12/Cafe.png
ORGANIZER;CN="EndoPower.Wien":MAILTO:endopower.wien@gmail.com
GEO:48.2227356;16.3900024
X-APPLE-STRUCTURED-LOCATION;VALUE=URI;X-ADDRESS=The Social Hub Nordbahnstraße 47 Wien Wien 1020 Austria;X-APPLE-RADIUS=500;X-TITLE=Nordbahnstraße 47:geo:16.3900024,48.2227356
END:VEVENT
BEGIN:VEVENT
DTSTART;TZID=Europe/Vienna:20251202T183000
DTEND;TZID=Europe/Vienna:20251202T203000
DTSTAMP:20260422T192326
CREATED:20251021T133704Z
LAST-MODIFIED:20251021T133704Z
UID:10000422-1764700200-1764707400@www.femvents.at
SUMMARY:Selbsthilfegruppentreffen für Endometriosebetroffene
DESCRIPTION:Für Anmeldungen zu Gruppentreffen in Wien schreibe bitte formlos an: endopower.wien@gmail.com\nUnser Ziel – Ablauf eines Treffens\nUnsere SHG möchte einen offenen und lockeren Austausch bieten und verhindern\, dass sich Endometriose Betroffene alleine fühlen. \nAlle zwei Monate findet das Austauschcafé statt\, in dessen Rahmen die Teilnehmenden ca zwei Stunden Zeit haben ihre Erfahrungen und Sorgen zu teilen und sich gegenseitig Tipps zu geben (einander zu empowern). \nWir organisieren derzeit keine Vorträge oder geben Themen vor – diese ergeben sich in der (Gruppen-) Diskussion.
URL:https://www.femvents.at/event/selbsthilfegruppentreffen-fuer-endometriosebetroffene/
LOCATION:The Social Hub\, Nordbahnstraße 47\, Wien\, Wien\, 1020\, Austria
CATEGORIES:After Work,Frauenkreis,Meetup,Netzwerk-Treffen,Stammtisch,Wien
ATTACH;FMTTYPE=image/png:https://www.femvents.at/wp-content/uploads/2025/10/Cafe.png
ORGANIZER;CN="EndoPower.Wien":MAILTO:endopower.wien@gmail.com
GEO:48.2227356;16.3900024
X-APPLE-STRUCTURED-LOCATION;VALUE=URI;X-ADDRESS=The Social Hub Nordbahnstraße 47 Wien Wien 1020 Austria;X-APPLE-RADIUS=500;X-TITLE=Nordbahnstraße 47:geo:16.3900024,48.2227356
END:VEVENT
END:VCALENDAR