BEGIN:VCALENDAR
VERSION:2.0
PRODID:-//femvents.at - ECPv6.15.18//NONSGML v1.0//EN
CALSCALE:GREGORIAN
METHOD:PUBLISH
X-ORIGINAL-URL:https://www.femvents.at
X-WR-CALDESC:Veranstaltungen für femvents.at
REFRESH-INTERVAL;VALUE=DURATION:PT1H
X-Robots-Tag:noindex
X-PUBLISHED-TTL:PT1H
BEGIN:VTIMEZONE
TZID:Europe/Vienna
BEGIN:DAYLIGHT
TZOFFSETFROM:+0100
TZOFFSETTO:+0200
TZNAME:CEST
DTSTART:20250330T010000
END:DAYLIGHT
BEGIN:STANDARD
TZOFFSETFROM:+0200
TZOFFSETTO:+0100
TZNAME:CET
DTSTART:20251026T010000
END:STANDARD
BEGIN:DAYLIGHT
TZOFFSETFROM:+0100
TZOFFSETTO:+0200
TZNAME:CEST
DTSTART:20260329T010000
END:DAYLIGHT
BEGIN:STANDARD
TZOFFSETFROM:+0200
TZOFFSETTO:+0100
TZNAME:CET
DTSTART:20261025T010000
END:STANDARD
BEGIN:DAYLIGHT
TZOFFSETFROM:+0100
TZOFFSETTO:+0200
TZNAME:CEST
DTSTART:20270328T010000
END:DAYLIGHT
BEGIN:STANDARD
TZOFFSETFROM:+0200
TZOFFSETTO:+0100
TZNAME:CET
DTSTART:20271031T010000
END:STANDARD
END:VTIMEZONE
BEGIN:VEVENT
DTSTART;TZID=Europe/Vienna:20260512T181500
DTEND;TZID=Europe/Vienna:20260512T201500
DTSTAMP:20260422T185857
CREATED:20260402T181811Z
LAST-MODIFIED:20260402T181811Z
UID:10000985-1778609700-1778616900@www.femvents.at
SUMMARY:Essbare Wildnis
DESCRIPTION:Wildkräuterküche – Genuss & Pflege aus der Natur \nFür alle\, die Lust haben\, essbare Wildkräuter kennenzulernen und zu erfahren\, wie vielseitig sie in Küche und Naturkosmetik eingesetzt werden können.\nKursinhalt: Nach einer kurzen Einführung in ausgewählte Wildkräuter\, ihren Geschmack\, ihre Wirkung und ihre Anwendungsmöglichkeiten\, geht es direkt ans kreative Arbeiten. \nWir stellen gemeinsam her:\n● eine aromatische Kräuter-Blütenbutter – perfekt für Brot\, Grillabende oder als Geschenk aus der Küche\n● ein erfrischendes Kräuter-/Gesichtstonikum – sanfte Pflege für jeden Tag\nBeides natürlich zum Mitnehmen – frisch\, duftend und voller Pflanzenkraft.
URL:https://www.femvents.at/event/essbare-wildnis/
LOCATION:VHS Deutsch Wagram\, Friedhofallee 7\, Deutsch Wagram\, Niederösterreich\, 2232\, Austria
CATEGORIES:Workshop
ATTACH;FMTTYPE=image/jpeg:https://www.femvents.at/wp-content/uploads/2026/04/IMG_20200422_103942-scaled.jpg
ORGANIZER;CN="Katharina Hansi":MAILTO:kathi@unmaskednature.com
GEO:48.2979103;16.5605938
X-APPLE-STRUCTURED-LOCATION;VALUE=URI;X-ADDRESS=VHS Deutsch Wagram Friedhofallee 7 Deutsch Wagram Niederösterreich 2232 Austria;X-APPLE-RADIUS=500;X-TITLE=Friedhofallee 7:geo:16.5605938,48.2979103
END:VEVENT
END:VCALENDAR