BEGIN:VCALENDAR
VERSION:2.0
PRODID:-//femvents.at - ECPv6.15.18//NONSGML v1.0//EN
CALSCALE:GREGORIAN
METHOD:PUBLISH
X-ORIGINAL-URL:https://www.femvents.at
X-WR-CALDESC:Veranstaltungen für femvents.at
REFRESH-INTERVAL;VALUE=DURATION:PT1H
X-Robots-Tag:noindex
X-PUBLISHED-TTL:PT1H
BEGIN:VTIMEZONE
TZID:Europe/Vienna
BEGIN:DAYLIGHT
TZOFFSETFROM:+0100
TZOFFSETTO:+0200
TZNAME:CEST
DTSTART:20240331T010000
END:DAYLIGHT
BEGIN:STANDARD
TZOFFSETFROM:+0200
TZOFFSETTO:+0100
TZNAME:CET
DTSTART:20241027T010000
END:STANDARD
BEGIN:DAYLIGHT
TZOFFSETFROM:+0100
TZOFFSETTO:+0200
TZNAME:CEST
DTSTART:20250330T010000
END:DAYLIGHT
BEGIN:STANDARD
TZOFFSETFROM:+0200
TZOFFSETTO:+0100
TZNAME:CET
DTSTART:20251026T010000
END:STANDARD
BEGIN:DAYLIGHT
TZOFFSETFROM:+0100
TZOFFSETTO:+0200
TZNAME:CEST
DTSTART:20260329T010000
END:DAYLIGHT
BEGIN:STANDARD
TZOFFSETFROM:+0200
TZOFFSETTO:+0100
TZNAME:CET
DTSTART:20261025T010000
END:STANDARD
END:VTIMEZONE
BEGIN:VEVENT
DTSTART;TZID=Europe/Vienna:20251108T100000
DTEND;TZID=Europe/Vienna:20251108T130000
DTSTAMP:20260422T191501
CREATED:20250702T064014Z
LAST-MODIFIED:20251031T094656Z
UID:10000086-1762596000-1762606800@www.femvents.at
SUMMARY:GLOW Morning
DESCRIPTION:Gönn dir eine Auszeit\, die unter die Haut geht – im wahrsten Sinne des Wortes. Beim GLOW MORNING erlebst du mit Face-Yoga-Expertin Manuela Hofschwaiger einen Morgen voller Tiefenentspannung\, Selbstfürsorge und innerem Strahlen. \nDich erwartet eine kraftvolle Kombination aus Detox-Massage\, Lifting-Techniken und Akupressur\, die deine Gesichtsmuskulatur aktiviert und deine natürliche Ausstrahlung zum Leuchten bringt. In der stilvollen Atmosphäre der Villa Alma direkt am Wolfgangsee findest du Raum\, um ganz bei dir anzukommen. \nNach der Face-Yoga-Session genießen wir gemeinsam einen nährenden Soul Food Brunch\, der Körper und Seele stärkt – bewusst\, genussvoll und in bester Gesellschaft inspirierender Frauen. \n✨ Für Frauen\, die sich selbst etwas Gutes tun wollen. \n✨ Für alle\, die Schönheit von innen heraus leben. \n✨ Für dein Strahlen – von innen nach außen. \nJetzt dabei sein und deine Strahlkraft neu entdecken!
URL:https://www.femvents.at/event/glow-morning/
LOCATION:Villa Alma\, Mondsee Str. 20\, St. Gilgen\, 5340\, Austria
CATEGORIES:Kurs,Salzburg
ATTACH;FMTTYPE=image/png:https://www.femvents.at/wp-content/uploads/2025/07/Rot-Beige-Floral-Fruehlingsfest-Einladung-Instagram-Post.png
GEO:47.7696615;13.368166
X-APPLE-STRUCTURED-LOCATION;VALUE=URI;X-ADDRESS=Villa Alma Mondsee Str. 20 St. Gilgen 5340 Austria;X-APPLE-RADIUS=500;X-TITLE=Mondsee Str. 20:geo:13.368166,47.7696615
END:VEVENT
END:VCALENDAR