BEGIN:VCALENDAR
VERSION:2.0
PRODID:-//femvents.at - ECPv6.15.18//NONSGML v1.0//EN
CALSCALE:GREGORIAN
METHOD:PUBLISH
X-WR-CALNAME:femvents.at
X-ORIGINAL-URL:https://www.femvents.at
X-WR-CALDESC:Veranstaltungen für femvents.at
REFRESH-INTERVAL;VALUE=DURATION:PT1H
X-Robots-Tag:noindex
X-PUBLISHED-TTL:PT1H
BEGIN:VTIMEZONE
TZID:Europe/Vienna
BEGIN:DAYLIGHT
TZOFFSETFROM:+0100
TZOFFSETTO:+0200
TZNAME:CEST
DTSTART:20250330T010000
END:DAYLIGHT
BEGIN:STANDARD
TZOFFSETFROM:+0200
TZOFFSETTO:+0100
TZNAME:CET
DTSTART:20251026T010000
END:STANDARD
BEGIN:DAYLIGHT
TZOFFSETFROM:+0100
TZOFFSETTO:+0200
TZNAME:CEST
DTSTART:20260329T010000
END:DAYLIGHT
BEGIN:STANDARD
TZOFFSETFROM:+0200
TZOFFSETTO:+0100
TZNAME:CET
DTSTART:20261025T010000
END:STANDARD
BEGIN:DAYLIGHT
TZOFFSETFROM:+0100
TZOFFSETTO:+0200
TZNAME:CEST
DTSTART:20270328T010000
END:DAYLIGHT
BEGIN:STANDARD
TZOFFSETFROM:+0200
TZOFFSETTO:+0100
TZNAME:CET
DTSTART:20271031T010000
END:STANDARD
END:VTIMEZONE
BEGIN:VEVENT
DTSTART;TZID=Europe/Vienna:20260226T183000
DTEND;TZID=Europe/Vienna:20260226T210000
DTSTAMP:20260422T210832
CREATED:20260107T111601Z
LAST-MODIFIED:20260107T111601Z
UID:10000618-1772130600-1772139600@www.femvents.at
SUMMARY:FEMclub Netzwerktreffen
DESCRIPTION:Die FEMclub-Netzwerktreffen sind kein klassisches Networking. Hier treffen Unternehmerinnen\, Macherinnen und Visionärinnen auf echten Austausch\, klare Worte und starke Verbindungen. Kein Verkaufsdruck\, kein Smalltalk – dafür Inspiration\, Sichtbarkeit und Frauen\, die wissen\, was sie wollen. Offen für Mitglieder und Nicht-Mitglieder.
URL:https://www.femvents.at/event/femclub-netzwerktreffen-3/
LOCATION:Vinothek Vipresso\, Kirchgasse 11\, St. Veit\, Kärnten\, 9300\, Austria
CATEGORIES:Kärnten,Netzwerk-Treffen
ATTACH;FMTTYPE=image/png:https://www.femvents.at/wp-content/uploads/2026/01/Wir-passen-nicht-in-Schubladen.-Wir-sprengen-sie.-1-1.png
GEO:46.7664543;14.3579269
X-APPLE-STRUCTURED-LOCATION;VALUE=URI;X-ADDRESS=Vinothek Vipresso Kirchgasse 11 St. Veit Kärnten 9300 Austria;X-APPLE-RADIUS=500;X-TITLE=Kirchgasse 11:geo:14.3579269,46.7664543
END:VEVENT
END:VCALENDAR