BEGIN:VCALENDAR
VERSION:2.0
PRODID:-//femvents.at - ECPv6.15.18//NONSGML v1.0//EN
CALSCALE:GREGORIAN
METHOD:PUBLISH
X-WR-CALNAME:femvents.at
X-ORIGINAL-URL:https://www.femvents.at
X-WR-CALDESC:Veranstaltungen für femvents.at
REFRESH-INTERVAL;VALUE=DURATION:PT1H
X-Robots-Tag:noindex
X-PUBLISHED-TTL:PT1H
BEGIN:VTIMEZONE
TZID:Europe/Vienna
BEGIN:DAYLIGHT
TZOFFSETFROM:+0100
TZOFFSETTO:+0200
TZNAME:CEST
DTSTART:20240331T010000
END:DAYLIGHT
BEGIN:STANDARD
TZOFFSETFROM:+0200
TZOFFSETTO:+0100
TZNAME:CET
DTSTART:20241027T010000
END:STANDARD
BEGIN:DAYLIGHT
TZOFFSETFROM:+0100
TZOFFSETTO:+0200
TZNAME:CEST
DTSTART:20250330T010000
END:DAYLIGHT
BEGIN:STANDARD
TZOFFSETFROM:+0200
TZOFFSETTO:+0100
TZNAME:CET
DTSTART:20251026T010000
END:STANDARD
BEGIN:DAYLIGHT
TZOFFSETFROM:+0100
TZOFFSETTO:+0200
TZNAME:CEST
DTSTART:20260329T010000
END:DAYLIGHT
BEGIN:STANDARD
TZOFFSETFROM:+0200
TZOFFSETTO:+0100
TZNAME:CET
DTSTART:20261025T010000
END:STANDARD
END:VTIMEZONE
BEGIN:VEVENT
DTSTART;TZID=Europe/Vienna:20251016T093000
DTEND;TZID=Europe/Vienna:20251016T120000
DTSTAMP:20260422T203356
CREATED:20251005T092021Z
LAST-MODIFIED:20251005T092021Z
UID:10000354-1760607000-1760616000@www.femvents.at
SUMMARY:Speed ​​Networking Brunch von Frauen für Frauen
DESCRIPTION:Unser erstes Event nur für Frauen – weil wir glauben\, dass echte Vernetzung unter Frauen Großes bewegen kann. \nEinladung zum Speed ​​Networking Brunch für Power-Frauen \nLust auf spannende Gespräche und echte Verbindungen? \nDann sei dabei\, wenn wir beim gemütlichen Brunch unter Frauen nicht nur Kaffee\, sondern auch Kontakte teilen! \nIn entspannter Atmosphäre treffen sich Frauen aus unterschiedlichsten Branchen – zum Netzwerken\, Austauschen und gegenseitigen Stärken. \nUnd das Ganze im Speed-Networking-Format – kurz\, knackig und garantiert nicht langweilig! \nWas dich erwartet: \n✨ Getränke und kleines Buffet \n✨ Kurze\, gezielte Networking-Sessions (Speed ​​Networking) \n✨ Raum für echte Begegnungen unter Gleichgesinnten \nWann: 16. Oktober 2025 \nWo: Arnsdorfer Straße 2 5110 Oberndorf bei Salzburg \nDresscode: Come as you are – Business Casual mit Wohlfühlfaktor \nAgenda : 09:00 Uhr Get Together\, 09:30 Uhr Beginn des Speed ​​Networkings\, 12:00 Uhr Ende der Veranstaltung \nTicketpreis: 25\,00€ (alles inbegriffen) \nLasst uns gemeinsam wachsen – mit Herz\, Humor und starken Gesprächen. \nMelde dich schnell an – die Plätze sind begrenzt. \nWir freuen uns riesig auf dich! 💛
URL:https://www.femvents.at/event/speed-networking-brunch-von-frauen-fuer-frauen/
LOCATION:Vision 4 GmbH\, Arnsdorfer Straße 2\, Oberndorf bei Salzburg\, Salzburg\, 5110\, Austria
CATEGORIES:Frauenkreis,Netzwerk-Treffen,Salzburg
ATTACH;FMTTYPE=image/jpeg:https://www.femvents.at/wp-content/uploads/2025/10/WhatsApp-Image-2025-10-01-at-13.58.55.jpeg
ORGANIZER;CN="FemConnect":MAILTO:nadine.schernthaner@dvag.at
GEO:47.9525193;12.9380367
X-APPLE-STRUCTURED-LOCATION;VALUE=URI;X-ADDRESS=Vision 4 GmbH Arnsdorfer Straße 2 Oberndorf bei Salzburg Salzburg 5110 Austria;X-APPLE-RADIUS=500;X-TITLE=Arnsdorfer Straße 2:geo:12.9380367,47.9525193
END:VEVENT
END:VCALENDAR