BEGIN:VCALENDAR
VERSION:2.0
PRODID:-//femvents.at - ECPv6.15.18//NONSGML v1.0//EN
CALSCALE:GREGORIAN
METHOD:PUBLISH
X-ORIGINAL-URL:https://www.femvents.at
X-WR-CALDESC:Veranstaltungen für femvents.at
REFRESH-INTERVAL;VALUE=DURATION:PT1H
X-Robots-Tag:noindex
X-PUBLISHED-TTL:PT1H
BEGIN:VTIMEZONE
TZID:Europe/Vienna
BEGIN:DAYLIGHT
TZOFFSETFROM:+0100
TZOFFSETTO:+0200
TZNAME:CEST
DTSTART:20240331T010000
END:DAYLIGHT
BEGIN:STANDARD
TZOFFSETFROM:+0200
TZOFFSETTO:+0100
TZNAME:CET
DTSTART:20241027T010000
END:STANDARD
BEGIN:DAYLIGHT
TZOFFSETFROM:+0100
TZOFFSETTO:+0200
TZNAME:CEST
DTSTART:20250330T010000
END:DAYLIGHT
BEGIN:STANDARD
TZOFFSETFROM:+0200
TZOFFSETTO:+0100
TZNAME:CET
DTSTART:20251026T010000
END:STANDARD
BEGIN:DAYLIGHT
TZOFFSETFROM:+0100
TZOFFSETTO:+0200
TZNAME:CEST
DTSTART:20260329T010000
END:DAYLIGHT
BEGIN:STANDARD
TZOFFSETFROM:+0200
TZOFFSETTO:+0100
TZNAME:CET
DTSTART:20261025T010000
END:STANDARD
END:VTIMEZONE
BEGIN:VEVENT
DTSTART;TZID=Europe/Vienna:20251126T140000
DTEND;TZID=Europe/Vienna:20251126T180000
DTSTAMP:20260422T210848
CREATED:20251014T110239Z
LAST-MODIFIED:20251014T110318Z
UID:10000393-1764165600-1764180000@www.femvents.at
SUMMARY:Female Power! Mit starker Kommunikation & sozialer Intelligenz zu mehr Erfolg.
DESCRIPTION:Du kommunizierst schon souverän – aber du spürst\, da geht noch mehr? \nIn meinem Seminar verbindest du neueste Erkenntnisse aus der Hirn-\, Verhaltens- und Sprachforschung mit praktischen Übungen\, die sofort wirken. \nWir lösen eingefahrene Kommunikationsmuster\, stärken deine Resilienz mit Trancetechniken und vertiefen deine soziale Intelligenz\, das heißt besseres Verständnis des Verhaltens. Deines und das „der anderen“. Die Sprache ist dazu ein ebenso wesentliches Werkzeug. \nFür Frauen\, die mit Präsenz\, Klarheit und Tiefgang überzeugen wollen – beruflich wie privat. Du bekommst Tools\, die nicht nur im Kopf bleiben\, sondern sich in deinem Auftreten zeigen und zu mehr Erfolg führen. Beruflich wie privat.
URL:https://www.femvents.at/event/female-power-mit-starker-kommunikation-sozialer-intelligenz-zu-mehr-erfolg/
LOCATION:Wien\, tbd\, Wien\, Wien\, 1150\, Austria
CATEGORIES:Kurs,Wien,Workshop
ATTACH;FMTTYPE=image/png:https://www.femvents.at/wp-content/uploads/2025/10/carina1678_A_Cinematic_scene_five_German_female_superheroes__sm_588dcfb4-528b-4a1e-8210-c2f4d8930ebc.png
ORGANIZER;CN="C. Felzmann Communication":MAILTO:felzmann@felzmann-communication.com
GEO:48.1919814;16.3324557
END:VEVENT
END:VCALENDAR