BEGIN:VCALENDAR
VERSION:2.0
PRODID:-//femvents.at - ECPv6.15.18//NONSGML v1.0//EN
CALSCALE:GREGORIAN
METHOD:PUBLISH
X-WR-CALNAME:femvents.at
X-ORIGINAL-URL:https://www.femvents.at
X-WR-CALDESC:Veranstaltungen für femvents.at
REFRESH-INTERVAL;VALUE=DURATION:PT1H
X-Robots-Tag:noindex
X-PUBLISHED-TTL:PT1H
BEGIN:VTIMEZONE
TZID:Europe/Vienna
BEGIN:DAYLIGHT
TZOFFSETFROM:+0100
TZOFFSETTO:+0200
TZNAME:CEST
DTSTART:20250330T010000
END:DAYLIGHT
BEGIN:STANDARD
TZOFFSETFROM:+0200
TZOFFSETTO:+0100
TZNAME:CET
DTSTART:20251026T010000
END:STANDARD
BEGIN:DAYLIGHT
TZOFFSETFROM:+0100
TZOFFSETTO:+0200
TZNAME:CEST
DTSTART:20260329T010000
END:DAYLIGHT
BEGIN:STANDARD
TZOFFSETFROM:+0200
TZOFFSETTO:+0100
TZNAME:CET
DTSTART:20261025T010000
END:STANDARD
BEGIN:DAYLIGHT
TZOFFSETFROM:+0100
TZOFFSETTO:+0200
TZNAME:CEST
DTSTART:20270328T010000
END:DAYLIGHT
BEGIN:STANDARD
TZOFFSETFROM:+0200
TZOFFSETTO:+0100
TZNAME:CET
DTSTART:20271031T010000
END:STANDARD
END:VTIMEZONE
BEGIN:VEVENT
DTSTART;TZID=Europe/Vienna:20260423T190000
DTEND;TZID=Europe/Vienna:20260423T220000
DTSTAMP:20260422T174612
CREATED:20260315T090250Z
LAST-MODIFIED:20260315T090250Z
UID:10000920-1776970800-1776981600@www.femvents.at
SUMMARY:SPEAK UP WIEN
DESCRIPTION:SPEAK UP – Wien | 23. April 2026 | 19:00 Uhr \nKI produziert Content im Überfluss.\nWas fehlt\, sind Menschen mit Haltung. \nWir brauchen keinen weiteren inhaltsleeren Content.\nWir brauchen Menschen mit klarer Haltung.\nTiefe statt Oberfläche.\nBegegnung statt Beschallung. \nSPEAK UP ist ein Raum für genau das.\nFür Stimmen\, die etwas meinen.\nFür Geschichten\, die erlebt statt optimiert sind.\nFür Begegnungen\, die bleiben. \nWas dich erwartet: \n✔ 10-minütige Impulsreden mit echtem Mehrwert – keine Pitchveranstaltung\, sondern Gedanken\, die bewegen. \n✔ Unterschiedliche Themenfelder und unverwechselbare Speeches von Frauen – ehrlich\, mutig\, kompetent. \n✔ Ein Abend voller Inspiration\, Substanz und Unterhaltung – kein leeres Motivationsfeuerwerk\, sondern echte Impulse. \n✔ Netzwerken auf Augenhöhe – gemeinsam wachsen\, sich stärken\, sich wirklich begegnen. \n✔ Safer Space mit professionellem Rahmen – angenehme Atmosphäre\, Snacks & Getränke inklusive. \nWenn du genug hast von Oberflächen-Content.\nWenn du echte Stimmen hören willst.\nWenn du spüren willst\, wie Haltung im Raum klingt — \nDann ist SPEAK UP dein Abend. \nSei dabei. Deine Stimme gehört in diese Welt.
URL:https://www.femvents.at/event/speak-up-wien/
LOCATION:Wien\, wien\, Wien\, 1060\, Austria
CATEGORIES:After Work,Netzwerk-Treffen,Wien
ATTACH;FMTTYPE=image/jpeg:https://www.femvents.at/wp-content/uploads/2026/03/288-R6II1407-scaled.jpg
ORGANIZER;CN="Female Speakers Academy":MAILTO:hello@femalespeakersacademy.com
GEO:48.1945985;16.3504336
END:VEVENT
BEGIN:VEVENT
DTSTART;TZID=Europe/Vienna:20260424T120000
DTEND;TZID=Europe/Vienna:20260424T120000
DTSTAMP:20260422T174612
CREATED:20260324T161159Z
LAST-MODIFIED:20260401T094958Z
UID:10000963-1777032000-1777032000@www.femvents.at
SUMMARY:Magisches Frühstück #4 KI+Astrologie_Prompten mit den Sternen
DESCRIPTION:Man kann über KI reden. Oder man kann beginnen\, mit ihr zu spielen. Und manchmal hilft dabei ein Blick… nach oben. ⭐ \nBeim Magischen Frühstück beschäftigen wir uns mit Themen\, die unsere Gesellschaft beschäftigen\, jedoch niemand gerne ausspricht. Wir öffnen den Safe Space für Neugierige & Interessierte. \nFlorentina Zach\, CEO /Gründerin vom ICAI Institute\, ist erste TÜV zertifizierte Trainerin und Geschäftsführerin eines Bildungsinstituts\, sie ist zudem leidenschaftliche Astrologie-Enthusiast. Wir werden live prompten und gleich vorweg\, es wird genial und magisch sowieso. Gleich Tickets buchen\, Plätze sind auf 30 limitiert. #happy2seeyou
URL:https://www.femvents.at/event/magisches-fruehstueck-4-kiastrologie_prompten-mit-den-sternen/
LOCATION:Wien\, wien\, Wien\, 1060\, Austria
CATEGORIES:Wien
ATTACH;FMTTYPE=image/jpeg:https://www.femvents.at/wp-content/uploads/2026/03/24.4.2026.jpg
ORGANIZER;CN="Grooowth Hub Gmbh":MAILTO:alexandra@grooowth-hub.com
GEO:48.1945985;16.3504336
END:VEVENT
BEGIN:VEVENT
DTSTART;TZID=Europe/Vienna:20260505T183000
DTEND;TZID=Europe/Vienna:20260505T203000
DTSTAMP:20260422T174612
CREATED:20260416T070534Z
LAST-MODIFIED:20260416T070534Z
UID:10001117-1778005800-1778013000@www.femvents.at
SUMMARY:Selbsthilfegruppentreffen für Endometriosebetroffene
DESCRIPTION:Für Anmeldungen zu Gruppentreffen in Wien schreibe bitte formlos an: endopower.wien@gmail.com\nUnser Ziel – Ablauf eines Treffens\nUnsere SHG möchte einen offenen und lockeren Austausch bieten und verhindern\, dass sich Endometriose Betroffene alleine fühlen. \nAlle zwei Monate findet das Austauschcafé statt\, in dessen Rahmen die Teilnehmenden ca zwei Stunden Zeit haben ihre Erfahrungen und Sorgen zu teilen und sich gegenseitig Tipps zu geben (einander zu empowern). \nWir organisieren derzeit keine Vorträge oder geben Themen vor – diese ergeben sich in der (Gruppen-) Diskussion.
URL:https://www.femvents.at/event/selbsthilfegruppentreffen-fuer-endometriosebetroffene-2/
LOCATION:Wien\, wien\, Wien\, 1060\, Austria
CATEGORIES:After Work,Frauenkreis,Meetup,Netzwerk-Treffen,Stammtisch,Wien
ATTACH;FMTTYPE=image/png:https://www.femvents.at/wp-content/uploads/2025/10/Cafe.png
ORGANIZER;CN="EndoPower.Wien":MAILTO:endopower.wien@gmail.com
GEO:48.1945985;16.3504336
END:VEVENT
BEGIN:VEVENT
DTSTART;TZID=Europe/Vienna:20260602T183000
DTEND;TZID=Europe/Vienna:20260602T203000
DTSTAMP:20260422T174612
CREATED:20260416T070936Z
LAST-MODIFIED:20260416T070936Z
UID:10001118-1780425000-1780432200@www.femvents.at
SUMMARY:Selbsthilfegruppentreffen für Endometriosebetroffene
DESCRIPTION:Für Anmeldungen zu Gruppentreffen in Wien schreibe bitte formlos an: endopower.wien@gmail.com\nUnser Ziel – Ablauf eines Treffens\nUnsere SHG möchte einen offenen und lockeren Austausch bieten und verhindern\, dass sich Endometriose Betroffene alleine fühlen. \nAlle zwei Monate findet das Austauschcafé statt\, in dessen Rahmen die Teilnehmenden ca zwei Stunden Zeit haben ihre Erfahrungen und Sorgen zu teilen und sich gegenseitig Tipps zu geben (einander zu empowern). \nWir organisieren derzeit keine Vorträge oder geben Themen vor – diese ergeben sich in der (Gruppen-) Diskussion.
URL:https://www.femvents.at/event/selbsthilfegruppentreffen-fuer-endometriosebetroffene-3/
LOCATION:Wien\, wien\, Wien\, 1060\, Austria
CATEGORIES:After Work,Frauenkreis,Meetup,Netzwerk-Treffen,Stammtisch,Wien
ATTACH;FMTTYPE=image/png:https://www.femvents.at/wp-content/uploads/2025/10/Cafe.png
ORGANIZER;CN="EndoPower.Wien":MAILTO:endopower.wien@gmail.com
GEO:48.1945985;16.3504336
END:VEVENT
BEGIN:VEVENT
DTSTART;TZID=Europe/Vienna:20260804T183000
DTEND;TZID=Europe/Vienna:20260804T203000
DTSTAMP:20260422T174612
CREATED:20260416T071000Z
LAST-MODIFIED:20260416T071000Z
UID:10001119-1785868200-1785875400@www.femvents.at
SUMMARY:Selbsthilfegruppentreffen für Endometriosebetroffene
DESCRIPTION:Für Anmeldungen zu Gruppentreffen in Wien schreibe bitte formlos an: endopower.wien@gmail.com\nUnser Ziel – Ablauf eines Treffens\nUnsere SHG möchte einen offenen und lockeren Austausch bieten und verhindern\, dass sich Endometriose Betroffene alleine fühlen. \nAlle zwei Monate findet das Austauschcafé statt\, in dessen Rahmen die Teilnehmenden ca zwei Stunden Zeit haben ihre Erfahrungen und Sorgen zu teilen und sich gegenseitig Tipps zu geben (einander zu empowern). \nWir organisieren derzeit keine Vorträge oder geben Themen vor – diese ergeben sich in der (Gruppen-) Diskussion.
URL:https://www.femvents.at/event/selbsthilfegruppentreffen-fuer-endometriosebetroffene-4/
LOCATION:Wien\, wien\, Wien\, 1060\, Austria
CATEGORIES:After Work,Frauenkreis,Meetup,Netzwerk-Treffen,Stammtisch,Wien
ATTACH;FMTTYPE=image/png:https://www.femvents.at/wp-content/uploads/2025/10/Cafe.png
ORGANIZER;CN="EndoPower.Wien":MAILTO:endopower.wien@gmail.com
GEO:48.1945985;16.3504336
END:VEVENT
BEGIN:VEVENT
DTSTART;TZID=Europe/Vienna:20261006T183000
DTEND;TZID=Europe/Vienna:20261006T203000
DTSTAMP:20260422T174612
CREATED:20260416T071021Z
LAST-MODIFIED:20260416T071021Z
UID:10001120-1791311400-1791318600@www.femvents.at
SUMMARY:Selbsthilfegruppentreffen für Endometriosebetroffene
DESCRIPTION:Für Anmeldungen zu Gruppentreffen in Wien schreibe bitte formlos an: endopower.wien@gmail.com\nUnser Ziel – Ablauf eines Treffens\nUnsere SHG möchte einen offenen und lockeren Austausch bieten und verhindern\, dass sich Endometriose Betroffene alleine fühlen. \nAlle zwei Monate findet das Austauschcafé statt\, in dessen Rahmen die Teilnehmenden ca zwei Stunden Zeit haben ihre Erfahrungen und Sorgen zu teilen und sich gegenseitig Tipps zu geben (einander zu empowern). \nWir organisieren derzeit keine Vorträge oder geben Themen vor – diese ergeben sich in der (Gruppen-) Diskussion.
URL:https://www.femvents.at/event/selbsthilfegruppentreffen-fuer-endometriosebetroffene-5/
LOCATION:Wien\, wien\, Wien\, 1060\, Austria
CATEGORIES:After Work,Frauenkreis,Meetup,Netzwerk-Treffen,Stammtisch,Wien
ATTACH;FMTTYPE=image/png:https://www.femvents.at/wp-content/uploads/2025/10/Cafe.png
ORGANIZER;CN="EndoPower.Wien":MAILTO:endopower.wien@gmail.com
GEO:48.1945985;16.3504336
END:VEVENT
BEGIN:VEVENT
DTSTART;TZID=Europe/Vienna:20261103T183000
DTEND;TZID=Europe/Vienna:20261103T203000
DTSTAMP:20260422T174612
CREATED:20260416T071036Z
LAST-MODIFIED:20260416T071036Z
UID:10001121-1793730600-1793737800@www.femvents.at
SUMMARY:Selbsthilfegruppentreffen für Endometriosebetroffene
DESCRIPTION:Für Anmeldungen zu Gruppentreffen in Wien schreibe bitte formlos an: endopower.wien@gmail.com\nUnser Ziel – Ablauf eines Treffens\nUnsere SHG möchte einen offenen und lockeren Austausch bieten und verhindern\, dass sich Endometriose Betroffene alleine fühlen. \nAlle zwei Monate findet das Austauschcafé statt\, in dessen Rahmen die Teilnehmenden ca zwei Stunden Zeit haben ihre Erfahrungen und Sorgen zu teilen und sich gegenseitig Tipps zu geben (einander zu empowern). \nWir organisieren derzeit keine Vorträge oder geben Themen vor – diese ergeben sich in der (Gruppen-) Diskussion.
URL:https://www.femvents.at/event/selbsthilfegruppentreffen-fuer-endometriosebetroffene-6/
LOCATION:Wien\, wien\, Wien\, 1060\, Austria
CATEGORIES:After Work,Frauenkreis,Meetup,Netzwerk-Treffen,Stammtisch,Wien
ATTACH;FMTTYPE=image/png:https://www.femvents.at/wp-content/uploads/2025/10/Cafe.png
ORGANIZER;CN="EndoPower.Wien":MAILTO:endopower.wien@gmail.com
GEO:48.1945985;16.3504336
END:VEVENT
BEGIN:VEVENT
DTSTART;TZID=Europe/Vienna:20261201T183000
DTEND;TZID=Europe/Vienna:20261201T203000
DTSTAMP:20260422T174612
CREATED:20260416T071057Z
LAST-MODIFIED:20260416T071057Z
UID:10001122-1796149800-1796157000@www.femvents.at
SUMMARY:Selbsthilfegruppentreffen für Endometriosebetroffene
DESCRIPTION:Für Anmeldungen zu Gruppentreffen in Wien schreibe bitte formlos an: endopower.wien@gmail.com\nUnser Ziel – Ablauf eines Treffens\nUnsere SHG möchte einen offenen und lockeren Austausch bieten und verhindern\, dass sich Endometriose Betroffene alleine fühlen. \nAlle zwei Monate findet das Austauschcafé statt\, in dessen Rahmen die Teilnehmenden ca zwei Stunden Zeit haben ihre Erfahrungen und Sorgen zu teilen und sich gegenseitig Tipps zu geben (einander zu empowern). \nWir organisieren derzeit keine Vorträge oder geben Themen vor – diese ergeben sich in der (Gruppen-) Diskussion.
URL:https://www.femvents.at/event/selbsthilfegruppentreffen-fuer-endometriosebetroffene-7/
LOCATION:Wien\, wien\, Wien\, 1060\, Austria
CATEGORIES:After Work,Frauenkreis,Meetup,Netzwerk-Treffen,Stammtisch,Wien
ATTACH;FMTTYPE=image/png:https://www.femvents.at/wp-content/uploads/2025/10/Cafe.png
ORGANIZER;CN="EndoPower.Wien":MAILTO:endopower.wien@gmail.com
GEO:48.1945985;16.3504336
END:VEVENT
END:VCALENDAR