BEGIN:VCALENDAR
VERSION:2.0
PRODID:-//femvents.at - ECPv6.15.18//NONSGML v1.0//EN
CALSCALE:GREGORIAN
METHOD:PUBLISH
X-WR-CALNAME:femvents.at
X-ORIGINAL-URL:https://www.femvents.at
X-WR-CALDESC:Veranstaltungen für femvents.at
REFRESH-INTERVAL;VALUE=DURATION:PT1H
X-Robots-Tag:noindex
X-PUBLISHED-TTL:PT1H
BEGIN:VTIMEZONE
TZID:Europe/Vienna
BEGIN:DAYLIGHT
TZOFFSETFROM:+0100
TZOFFSETTO:+0200
TZNAME:CEST
DTSTART:20250330T010000
END:DAYLIGHT
BEGIN:STANDARD
TZOFFSETFROM:+0200
TZOFFSETTO:+0100
TZNAME:CET
DTSTART:20251026T010000
END:STANDARD
BEGIN:DAYLIGHT
TZOFFSETFROM:+0100
TZOFFSETTO:+0200
TZNAME:CEST
DTSTART:20260329T010000
END:DAYLIGHT
BEGIN:STANDARD
TZOFFSETFROM:+0200
TZOFFSETTO:+0100
TZNAME:CET
DTSTART:20261025T010000
END:STANDARD
BEGIN:DAYLIGHT
TZOFFSETFROM:+0100
TZOFFSETTO:+0200
TZNAME:CEST
DTSTART:20270328T010000
END:DAYLIGHT
BEGIN:STANDARD
TZOFFSETFROM:+0200
TZOFFSETTO:+0100
TZNAME:CET
DTSTART:20271031T010000
END:STANDARD
END:VTIMEZONE
BEGIN:VEVENT
DTSTART;TZID=Europe/Vienna:20260417T090000
DTEND;TZID=Europe/Vienna:20260417T130000
DTSTAMP:20260422T221545
CREATED:20260206T165648Z
LAST-MODIFIED:20260206T165648Z
UID:10000776-1776416400-1776430800@www.femvents.at
SUMMARY:New Work für Women EPUs
DESCRIPTION:New Work wird oft aus der Perspektive großer Organisationen gedacht. Für Einzelunternehmerinnen greift dieser Ansatz zu kurz. Dieser Halbtag richtet sich gezielt an Women EPUs\, die ihr Unternehmen selbst führen – mit allen Entscheidungen\, Verantwortungen und inneren Spannungsfeldern\, die damit verbunden sind. \nIm Mittelpunkt steht die abundigai Methode: ein Ansatz\, der Selbststrukturierung\, zyklisches Arbeiten und finanzielle Klarheit miteinander verbindet. Du bekommst einen realistischen Zugang zu New Work und was dies für dich als One-Woman-Show bedeutet. \nEin wesentlicher Fokus liegt auf der Finanzorganisation: Wie behältst du den Überblick über deine Zahlen\, ohne dich in Details zu verlieren? Wie kannst du finanziell planen\, statt von dem zu leben\, was am Ende übrigbleibt? Finanzielle Transparenz wird hier als Führungsinstrument verstanden – nicht als Kontrollmechanismus. \nInhalte u. a.:\n• Was New Work für Women EPUs wirklich bedeutet\n• Die Grundprinzipien der abundigai Methode\n• Zyklisches Arbeiten als unternehmerische Ressource\n• Finanzorganisation\, die Sicherheit und Entscheidungsfreiheit schafft\n• Selbststrukturierung ohne Selbstüberforderung \nDer Workshop verbindet fachliche Inputs mit Reflexion und konkreten Impulsen für deinen Alltag. Du gehst mit einem klareren inneren und äußeren Ordnungsrahmen – und einem ersten Gefühl von unternehmerischer Entlastung
URL:https://www.femvents.at/event/new-work-fuer-women-epus/
LOCATION:WIFI Dornbirn\, Bahnhofstraße 24\, Dornbirn\, Vorarlberg\, 6850\, Austria
CATEGORIES:Kurs,Vorarlberg,Workshop
ATTACH;FMTTYPE=image/png:https://www.femvents.at/wp-content/uploads/2026/02/1768997016296.png
ORGANIZER;CN="EFINNA e.U.":MAILTO:birgit@efinna.at
GEO:47.1866264;9.7079567
X-APPLE-STRUCTURED-LOCATION;VALUE=URI;X-ADDRESS=WIFI Dornbirn Bahnhofstraße 24 Dornbirn Vorarlberg 6850 Austria;X-APPLE-RADIUS=500;X-TITLE=Bahnhofstraße 24:geo:9.7079567,47.1866264
END:VEVENT
END:VCALENDAR